{"text_format":"1","workbook":"xlsx","n_sheets":5,"sheets":["Time Set","Production","Med&Heavy","Bridge","#Mean Rates#"],"not_rendered":{"charts":0,"images":2,"macros":1,"external_links":0,"defined_names":2,"comments":0,"pivot_tables":0},"unopened":[],"bounds":{"document_bytes":16777216,"sheet_cells":100000,"rows_first":2000,"rows_last":500,"rows_between":2000,"halvings":0,"cell_chars":16384,"cell_head_chars":4096},"cells_cut":0,"cells_raw":0,"read":"whole","date_system":"1900"}

{"sheet":"Time Set","index":0,"n_rows":18,"n_cols":27,"rows_kept":18,"cut":false,"hidden":false,"merged":[[1,2,2,2],[10,2,11,2]]}
[null,null,null,null,null,null,null,null,null,null,null,null,null,null,null,null,null,null,null,null,null,null,null,null,null,null,{"$f":"DATE(YEAR(B5),1,1)","v":"2019-01-01"}]
["Contract","R-12345","Enter in the Contract, Amount (3) , Work Type (4), and NTP (5)",null,null,null,null,null,null,null,null,null,null,null,null,null,null,null,null,null,null,null,null,"Production",null,null,{"$f":"DATE(YEAR(AA1),MONTH(AA1)+1,1)","v":"2019-02-01"}]
["Original Amount",null,null,null,null,null,null,null,null,null,null,null,null,null,null,"Project Type","Contract Amount","Work Days","Type","Start Date","Completion Date (April)",null,null,"Regression",null,null,{"$f":"DATE(YEAR(AA2),MONTH(AA2)+1,1)","v":"2019-03-01"}]
["Type","Mill and Asphalt Resurface",null,{"$f":"VLOOKUP(B4,Table14[],4,TRUE)","v":"H"},null,null,null,null,null,null,null,null,null,null,null,"Asphalt Resurface",1000000,{"$f":"3*10^(-5)*$B$3+23.291","v":23.291},"H","2017-04-01",{"$f":"+WORKDAY(T4,R4)","v":"2017-05-03"},null,null,null,null,null,"2019-04-01"]
["NTP","2019-04-01",null,null,null,null,null,null,null,null,null,null,null,null,null,"Bridge Painting",1000000,{"$f":"0.0164*B3^0.7047","v":0},"B","2017-04-01","2017-04-01",null,null,null,null,null,"2019-05-01"]
[null,5,null,null,null,null,null,null,null,null,null,null,null,null,null,"Bridge Rehabilitation (Deck Replacement)",1000000,{"$f":"35.28*LN(B3)-360.64","v":{"$error":"#NUM!"}},"B","2017-04-01",{"$error":"#NUM!"},null,null,null,null,null,"2019-06-01"]
["Method","Regression",null,null,null,null,null,null,null,null,null,null,null,null,null,"Bridge Rehabilitation (Superstructure Repair)",1000000,{"$f":"26.67*LN(B3)-259.2","v":{"$error":"#NUM!"}},"B","2017-04-01",{"$error":"#NUM!"},null,null,null,null,null,"2019-07-01"]
["Work Days",{"$f":"IF(B3=\"\",\"\",VLOOKUP(B4,Table14[],3,TRUE))","v":""},null,null,null,null,null,null,null,null,null,null,null,null,null,"Bridge Replacement (US)",1000000,{"$f":"41.257*LN(B3)-445.28","v":{"$error":"#NUM!"}},"B","2017-04-01",{"$error":"#NUM!"},null,null,null,null,null,"2019-08-01"]
["Regression Completion",null,"click to get the completion date using regression equations",null,null,null,null,null,null,null,null,null,null,null,null,"Bridge Replacement (SR)",1000000,{"$f":"30.862*LN(B3)-310.53","v":{"$error":"#NUM!"}},"B","2017-04-01",{"$error":"#NUM!"},null,null,null,null,null,"2019-09-01"]
["Method","Production",null,null,null,null,null,null,null,null,null,null,null,null,null,"Bridge Replacement (CR)",1000000,{"$f":"48.795*LN(B3)-537.95","v":{"$error":"#NUM!"}},"B","2017-04-01",{"$error":"#NUM!"}]
["Work Days",{"$f":"IF(B5=0,\"\",TimeSet[[#Totals],[WORKDAYS]])","v":0},"Click to go to the Production tab to enter controlling items",null,null,null,null,null,null,null,null,null,null,null,null,"Intersection Improvement",1000000,{"$f":"18.87761*LN(B3)-189.62836","v":{"$error":"#NUM!"}},"H","2017-04-01",{"$error":"#NUM!"},null,null,null,null,null,{"$f":"DATE(YEAR(AA9),MONTH(AA9)+1,1)","v":"2019-10-01"}]
["Production Completion",{"$f":"IF(B5=0,\"\",TimeSet[[#Totals],[Start/Finish]])","v":"2019-04-11"},null,null,null,null,null,null,null,null,null,null,null,null,null,"Mill and Asphalt Resurface",1000000,{"$f":"39.895*LN(B3)-455.48","v":{"$error":"#NUM!"}},"H","2017-04-01",{"$error":"#NUM!"},null,null,null,null,null,"2019-11-01"]
[null,null,null,null,null,null,null,null,null,null,null,null,null,null,null,"New Road Construction",1000000,{"$f":"3*10^(-5)*B3+19.894","v":19.893999999999998},"H","2017-04-01","2017-04-27",null,null,null,null,null,"2019-12-01"]
[null,null,null,null,null,"  ",null,null,null,null,null,null,null,null,null,"Pavement Rehabilitation",1000000,{"$f":"1.2507*B3^0.3108","v":0},"H","2017-04-01","2017-04-01"]
[null,null,null,null,null,null,null,null,null,null,null,null,null,null,null,"Road Rehabiliation",1000000,{"$f":"0.00001675*B3+67.211","v":67.210999999999999},"H","2017-04-01","2017-07-04",null,null,null,null,null,5]
[null,null,null,null,null,null,null,null,null,null,null,null,null,null,null,"Small Structure Replacement",1000000,{"$f":"0.0319*B3^0.5866","v":0},"H","2017-04-01","2017-04-01",null,null,null,null,null,6]
[null,null,null,null,null,null,null,null,null,null,null,null,null,null,null,"Small Structure Replacement",1000000,{"$f":"9*10^(-5)*B3+33.696","v":33.695999999999998},"H","2017-04-01","2017-05-17",null,null,null,null,null,7]
[null,null,null,null,null,null,null,null,null,null,null,null,null,null,null,"Wedge and Level",1000000,{"$f":"7*10^-5*B3+10.598","v":10.598000000000001},"H","2017-04-01","2017-04-14"]

{"sheet":"Production","index":1,"n_rows":131,"n_cols":27,"rows_kept":131,"cut":false,"hidden":false,"merged":[]}
["Seq","Construction Activity","Work Type (H,B,C)","Production Rate","QUANTITY","UNIT","CREWS / SHIFTS","WORKDAYS","Comments","Start/Finish",null,null,null,"Template","","Work Type(H,L,B)","MEAN VALUE","QUANTITY","UNIT","CREWS / SHIFTS","WORKDAYS","comments","start/finish",null,null,{"$f":"+'Time Set'!B5","v":"2019-04-01"},{"$f":"+DATE(YEAR(Z1),1,1)","v":"2019-01-01"}]
[0,"Notice to Proceed","C",1,10,"DAYS",1,{"$f":"(IF(D2=\"\",\"\",ROUNDUP((E2/D2)/G2,0)))","v":10},"Do not Delete Row; May edit Activity or Start Date","2019-04-11",null,null,null,null,null,{"$f":"IF(O2=\"\",\"\",INDEX(Production[Work Type],MATCH(O2,Production[CONSTRUCTION ACTIVITY],0)))","v":""},{"$f":"IF(O2=\"\",\"\",INDEX(Production[MEAN VALUE],MATCH(O2,Production[CONSTRUCTION ACTIVITY],0)))","v":""},null,{"$f":"IF(O2=\"\",\"\",INDEX(Production[UNIT],MATCH(O2,Production[CONSTRUCTION ACTIVITY],0)))","v":""},1,{"$f":"(IF(Q2=\"\",\"\",ROUNDUP((R2/Q2)/T2,0)))","v":""},"Enter Comments",null,null,null,null,{"$f":"+DATE(YEAR(AA1),MONTH(AA1)+1,1)","v":"2019-02-01"}]
["Total",null,null,null,null,null,null,null,"Do not Delete Row",{"$f":"SUBTOTAL(104,TimeSet[Start/Finish])","v":"2019-04-11"},null,null,null,null,null,null,null,null,null,null,null,null,null,null,null,null,{"$f":"+DATE(YEAR(AA2),MONTH(AA2)+1,1)","v":"2019-03-01"}]
[null,null,{"$f":"IF(B4=\"\",\"\",INDEX($D1:$D2,MATCH(B4,$B1:$B2,0)))","v":""},null,{"$f":"IF(B4=\"\",\"\",INDEX($C1:$C2,MATCH(B4,$B1:$B2,0)))","v":""},null,{"$f":"IF(C4=\"\",\"\",D4/C4)","v":""},null,null,null,null,null,null,null,null,null,null,null,null,null,null,null,null,null,null,null,{"$f":"+DATE(YEAR(AA3),MONTH(AA3)+1,1)","v":"2019-04-01"}]
[null,null,{"$f":"IF(B5=\"\",\"\",INDEX($D1:$D2,MATCH(B5,$B1:$B2,0)))","v":""},null,{"$f":"IF(B5=\"\",\"\",INDEX($C1:$C2,MATCH(B5,$B1:$B2,0)))","v":""},null,"",null,null,null,null,null,null,null,null,null,null,null,null,null,null,null,null,null,null,null,"2019-05-01"]
[null,null,null,null,null,null,null,null,null,null,null,null,null,null,null,null,null,null,null,null,null,null,null,null,null,null,"2019-06-01"]
[null,null,null,null,null,null,null,null,null,null,null,null,null,null,null,null,null,null,null,null,null,null,null,null,null,null,"2019-07-01"]
[null,null,null,null,null,null,null,null,null,null,null,null,null,null,null,null,null,null,null,null,null,null,null,null,null,null,"2019-08-01"]
[null,null,null,null,null,null,null,null,null,null,null,null,null,null,null,null,null,null,null,null,null,null,null,null,null,null,"2019-09-01"]
[null,null,null,null,null,null,null,null,null,null,null,null,null,null,null,null,null,null,null,null,null,null,null,null,null,null,"2019-10-01"]
[]
[]
[]
[]
[]
[]
[]
[]
[]
[]
[null,null,{"$f":"IF(B21=\"\",\"\",INDEX($D1:$D19,MATCH(B21,$B1:$B19,0)))","v":""},null,{"$f":"IF(B21=\"\",\"\",INDEX($C1:$C19,MATCH(B21,$B1:$B19,0)))","v":""},null,"",null,null,"  "]
[null,null,{"$f":"IF(B22=\"\",\"\",INDEX($D1:$D20,MATCH(B22,$B1:$B20,0)))","v":""},null,{"$f":"IF(B22=\"\",\"\",INDEX($C1:$C20,MATCH(B22,$B1:$B20,0)))","v":""},null,""]
[null,null,{"$f":"IF(B23=\"\",\"\",INDEX($D1:$D21,MATCH(B23,$B1:$B21,0)))","v":""},null,{"$f":"IF(B23=\"\",\"\",INDEX($C1:$C21,MATCH(B23,$B1:$B21,0)))","v":""},null,""]
[null,null,{"$f":"IF(B24=\"\",\"\",INDEX($D1:$D22,MATCH(B24,$B1:$B22,0)))","v":""},null,{"$f":"IF(B24=\"\",\"\",INDEX($C1:$C22,MATCH(B24,$B1:$B22,0)))","v":""},null,""]
[null,null,{"$f":"IF(B25=\"\",\"\",INDEX($D1:$D23,MATCH(B25,$B1:$B23,0)))","v":""},null,{"$f":"IF(B25=\"\",\"\",INDEX($C1:$C23,MATCH(B25,$B1:$B23,0)))","v":""},null,""]
[null,null,{"$f":"IF(B26=\"\",\"\",INDEX($D1:$D24,MATCH(B26,$B1:$B24,0)))","v":""},null,{"$f":"IF(B26=\"\",\"\",INDEX($C1:$C24,MATCH(B26,$B1:$B24,0)))","v":""},null,""]
[null,null,{"$f":"IF(B27=\"\",\"\",INDEX($D1:$D25,MATCH(B27,$B1:$B25,0)))","v":""},null,{"$f":"IF(B27=\"\",\"\",INDEX($C1:$C25,MATCH(B27,$B1:$B25,0)))","v":""},null,""]
[null,null,{"$f":"IF(B28=\"\",\"\",INDEX($D1:$D26,MATCH(B28,$B1:$B26,0)))","v":""},null,{"$f":"IF(B28=\"\",\"\",INDEX($C1:$C26,MATCH(B28,$B1:$B26,0)))","v":""},null,""]
[null,null,{"$f":"IF(B29=\"\",\"\",INDEX($D1:$D27,MATCH(B29,$B1:$B27,0)))","v":""},null,{"$f":"IF(B29=\"\",\"\",INDEX($C1:$C27,MATCH(B29,$B1:$B27,0)))","v":""},null,""]
[null,null,{"$f":"IF(B30=\"\",\"\",INDEX($D1:$D28,MATCH(B30,$B1:$B28,0)))","v":""},null,{"$f":"IF(B30=\"\",\"\",INDEX($C1:$C28,MATCH(B30,$B1:$B28,0)))","v":""},null,""]
[null,null,{"$f":"IF(B31=\"\",\"\",INDEX($D1:$D29,MATCH(B31,$B1:$B29,0)))","v":""},null,{"$f":"IF(B31=\"\",\"\",INDEX($C1:$C29,MATCH(B31,$B1:$B29,0)))","v":""},null,""]
[null,null,{"$f":"IF(B32=\"\",\"\",INDEX($D1:$D30,MATCH(B32,$B1:$B30,0)))","v":""},null,{"$f":"IF(B32=\"\",\"\",INDEX($C1:$C30,MATCH(B32,$B1:$B30,0)))","v":""},null,""]
[null,null,{"$f":"IF(B33=\"\",\"\",INDEX($D1:$D31,MATCH(B33,$B1:$B31,0)))","v":""},null,{"$f":"IF(B33=\"\",\"\",INDEX($C1:$C31,MATCH(B33,$B1:$B31,0)))","v":""},null,""]
[null,null,{"$f":"IF(B34=\"\",\"\",INDEX($D1:$D32,MATCH(B34,$B1:$B32,0)))","v":""},null,{"$f":"IF(B34=\"\",\"\",INDEX($C1:$C32,MATCH(B34,$B1:$B32,0)))","v":""},null,""]
[null,null,{"$f":"IF(B35=\"\",\"\",INDEX($D1:$D33,MATCH(B35,$B1:$B33,0)))","v":""},null,{"$f":"IF(B35=\"\",\"\",INDEX($C1:$C33,MATCH(B35,$B1:$B33,0)))","v":""},null,""]
[null,null,{"$f":"IF(B36=\"\",\"\",INDEX($D1:$D34,MATCH(B36,$B1:$B34,0)))","v":""},null,{"$f":"IF(B36=\"\",\"\",INDEX($C1:$C34,MATCH(B36,$B1:$B34,0)))","v":""},null,""]
[null,null,{"$f":"IF(B37=\"\",\"\",INDEX($D1:$D35,MATCH(B37,$B1:$B35,0)))","v":""},null,{"$f":"IF(B37=\"\",\"\",INDEX($C1:$C35,MATCH(B37,$B1:$B35,0)))","v":""},null,""]
[null,null,{"$f":"IF(B38=\"\",\"\",INDEX($D1:$D36,MATCH(B38,$B1:$B36,0)))","v":""},null,{"$f":"IF(B38=\"\",\"\",INDEX($C1:$C36,MATCH(B38,$B1:$B36,0)))","v":""},null,""]
[null,null,{"$f":"IF(B39=\"\",\"\",INDEX($D1:$D37,MATCH(B39,$B1:$B37,0)))","v":""},null,{"$f":"IF(B39=\"\",\"\",INDEX($C1:$C37,MATCH(B39,$B1:$B37,0)))","v":""},null,""]
[null,null,{"$f":"IF(B40=\"\",\"\",INDEX($D1:$D38,MATCH(B40,$B1:$B38,0)))","v":""},null,{"$f":"IF(B40=\"\",\"\",INDEX($C1:$C38,MATCH(B40,$B1:$B38,0)))","v":""},null,""]
[null,null,{"$f":"IF(B41=\"\",\"\",INDEX($D1:$D39,MATCH(B41,$B1:$B39,0)))","v":""},null,{"$f":"IF(B41=\"\",\"\",INDEX($C1:$C39,MATCH(B41,$B1:$B39,0)))","v":""},null,""]
[null,null,{"$f":"IF(B42=\"\",\"\",INDEX($D1:$D40,MATCH(B42,$B1:$B40,0)))","v":""},null,{"$f":"IF(B42=\"\",\"\",INDEX($C1:$C40,MATCH(B42,$B1:$B40,0)))","v":""},null,""]
[null,null,{"$f":"IF(B43=\"\",\"\",INDEX($D1:$D41,MATCH(B43,$B1:$B41,0)))","v":""},null,{"$f":"IF(B43=\"\",\"\",INDEX($C1:$C41,MATCH(B43,$B1:$B41,0)))","v":""},null,""]
[null,null,{"$f":"IF(B44=\"\",\"\",INDEX($D1:$D42,MATCH(B44,$B1:$B42,0)))","v":""},null,{"$f":"IF(B44=\"\",\"\",INDEX($C1:$C42,MATCH(B44,$B1:$B42,0)))","v":""},null,""]
[null,null,{"$f":"IF(B45=\"\",\"\",INDEX($D1:$D43,MATCH(B45,$B1:$B43,0)))","v":""},null,{"$f":"IF(B45=\"\",\"\",INDEX($C1:$C43,MATCH(B45,$B1:$B43,0)))","v":""},null,""]
[null,null,{"$f":"IF(B46=\"\",\"\",INDEX($D1:$D44,MATCH(B46,$B1:$B44,0)))","v":""},null,{"$f":"IF(B46=\"\",\"\",INDEX($C1:$C44,MATCH(B46,$B1:$B44,0)))","v":""},null,""]
[null,null,{"$f":"IF(B47=\"\",\"\",INDEX($D1:$D45,MATCH(B47,$B1:$B45,0)))","v":""},null,{"$f":"IF(B47=\"\",\"\",INDEX($C1:$C45,MATCH(B47,$B1:$B45,0)))","v":""},null,""]
[null,null,{"$f":"IF(B48=\"\",\"\",INDEX($D1:$D46,MATCH(B48,$B1:$B46,0)))","v":""},null,{"$f":"IF(B48=\"\",\"\",INDEX($C1:$C46,MATCH(B48,$B1:$B46,0)))","v":""},null,""]
[null,null,{"$f":"IF(B49=\"\",\"\",INDEX($D1:$D47,MATCH(B49,$B1:$B47,0)))","v":""},null,{"$f":"IF(B49=\"\",\"\",INDEX($C1:$C47,MATCH(B49,$B1:$B47,0)))","v":""},null,""]
[null,null,{"$f":"IF(B50=\"\",\"\",INDEX($D1:$D48,MATCH(B50,$B1:$B48,0)))","v":""},null,{"$f":"IF(B50=\"\",\"\",INDEX($C1:$C48,MATCH(B50,$B1:$B48,0)))","v":""},null,""]
[null,null,{"$f":"IF(B51=\"\",\"\",INDEX($D1:$D49,MATCH(B51,$B1:$B49,0)))","v":""},null,{"$f":"IF(B51=\"\",\"\",INDEX($C1:$C49,MATCH(B51,$B1:$B49,0)))","v":""},null,""]
[null,null,{"$f":"IF(B52=\"\",\"\",INDEX($D1:$D50,MATCH(B52,$B1:$B50,0)))","v":""},null,{"$f":"IF(B52=\"\",\"\",INDEX($C1:$C50,MATCH(B52,$B1:$B50,0)))","v":""},null,""]
[null,null,{"$f":"IF(B53=\"\",\"\",INDEX($D1:$D51,MATCH(B53,$B1:$B51,0)))","v":""},null,{"$f":"IF(B53=\"\",\"\",INDEX($C1:$C51,MATCH(B53,$B1:$B51,0)))","v":""},null,""]
[null,null,{"$f":"IF(B54=\"\",\"\",INDEX($D1:$D52,MATCH(B54,$B1:$B52,0)))","v":""},null,{"$f":"IF(B54=\"\",\"\",INDEX($C1:$C52,MATCH(B54,$B1:$B52,0)))","v":""},null,""]
[null,null,{"$f":"IF(B55=\"\",\"\",INDEX($D1:$D53,MATCH(B55,$B1:$B53,0)))","v":""},null,{"$f":"IF(B55=\"\",\"\",INDEX($C1:$C53,MATCH(B55,$B1:$B53,0)))","v":""},null,""]
[null,null,{"$f":"IF(B56=\"\",\"\",INDEX($D1:$D54,MATCH(B56,$B1:$B54,0)))","v":""},null,{"$f":"IF(B56=\"\",\"\",INDEX($C1:$C54,MATCH(B56,$B1:$B54,0)))","v":""},null,""]
[null,null,{"$f":"IF(B57=\"\",\"\",INDEX($D1:$D55,MATCH(B57,$B1:$B55,0)))","v":""},null,{"$f":"IF(B57=\"\",\"\",INDEX($C1:$C55,MATCH(B57,$B1:$B55,0)))","v":""},null,""]
[null,null,{"$f":"IF(B58=\"\",\"\",INDEX($D1:$D56,MATCH(B58,$B1:$B56,0)))","v":""},null,{"$f":"IF(B58=\"\",\"\",INDEX($C1:$C56,MATCH(B58,$B1:$B56,0)))","v":""},null,""]
[null,null,{"$f":"IF(B59=\"\",\"\",INDEX($D1:$D57,MATCH(B59,$B1:$B57,0)))","v":""},null,{"$f":"IF(B59=\"\",\"\",INDEX($C1:$C57,MATCH(B59,$B1:$B57,0)))","v":""},null,""]
[null,null,{"$f":"IF(B60=\"\",\"\",INDEX($D1:$D58,MATCH(B60,$B1:$B58,0)))","v":""},null,{"$f":"IF(B60=\"\",\"\",INDEX($C1:$C58,MATCH(B60,$B1:$B58,0)))","v":""},null,""]
[null,null,{"$f":"IF(B61=\"\",\"\",INDEX($D1:$D59,MATCH(B61,$B1:$B59,0)))","v":""},null,{"$f":"IF(B61=\"\",\"\",INDEX($C1:$C59,MATCH(B61,$B1:$B59,0)))","v":""},null,""]
[null,null,{"$f":"IF(B62=\"\",\"\",INDEX($D1:$D60,MATCH(B62,$B1:$B60,0)))","v":""},null,{"$f":"IF(B62=\"\",\"\",INDEX($C1:$C60,MATCH(B62,$B1:$B60,0)))","v":""},null,""]
[null,null,{"$f":"IF(B63=\"\",\"\",INDEX($D1:$D61,MATCH(B63,$B1:$B61,0)))","v":""},null,{"$f":"IF(B63=\"\",\"\",INDEX($C1:$C61,MATCH(B63,$B1:$B61,0)))","v":""},null,""]
[null,null,{"$f":"IF(B64=\"\",\"\",INDEX($D1:$D62,MATCH(B64,$B1:$B62,0)))","v":""},null,{"$f":"IF(B64=\"\",\"\",INDEX($C1:$C62,MATCH(B64,$B1:$B62,0)))","v":""},null,""]
[null,null,{"$f":"IF(B65=\"\",\"\",INDEX($D1:$D63,MATCH(B65,$B1:$B63,0)))","v":""},null,{"$f":"IF(B65=\"\",\"\",INDEX($C1:$C63,MATCH(B65,$B1:$B63,0)))","v":""},null,""]
[null,null,{"$f":"IF(B66=\"\",\"\",INDEX($D1:$D64,MATCH(B66,$B1:$B64,0)))","v":""},null,{"$f":"IF(B66=\"\",\"\",INDEX($C1:$C64,MATCH(B66,$B1:$B64,0)))","v":""},null,{"$f":"IF(C66=\"\",\"\",D66/C66)","v":""}]
[null,null,{"$f":"IF(B67=\"\",\"\",INDEX($D1:$D65,MATCH(B67,$B1:$B65,0)))","v":""},null,{"$f":"IF(B67=\"\",\"\",INDEX($C1:$C65,MATCH(B67,$B1:$B65,0)))","v":""},null,""]
[null,null,{"$f":"IF(B68=\"\",\"\",INDEX($D1:$D66,MATCH(B68,$B1:$B66,0)))","v":""},null,{"$f":"IF(B68=\"\",\"\",INDEX($C1:$C66,MATCH(B68,$B1:$B66,0)))","v":""},null,""]
[null,null,{"$f":"IF(B69=\"\",\"\",INDEX($D1:$D67,MATCH(B69,$B1:$B67,0)))","v":""},null,{"$f":"IF(B69=\"\",\"\",INDEX($C1:$C67,MATCH(B69,$B1:$B67,0)))","v":""},null,""]
[null,null,{"$f":"IF(B70=\"\",\"\",INDEX($D1:$D68,MATCH(B70,$B1:$B68,0)))","v":""},null,{"$f":"IF(B70=\"\",\"\",INDEX($C1:$C68,MATCH(B70,$B1:$B68,0)))","v":""},null,""]
[null,null,{"$f":"IF(B71=\"\",\"\",INDEX($D1:$D69,MATCH(B71,$B1:$B69,0)))","v":""},null,{"$f":"IF(B71=\"\",\"\",INDEX($C1:$C69,MATCH(B71,$B1:$B69,0)))","v":""},null,""]
[null,null,{"$f":"IF(B72=\"\",\"\",INDEX($D1:$D70,MATCH(B72,$B1:$B70,0)))","v":""},null,{"$f":"IF(B72=\"\",\"\",INDEX($C1:$C70,MATCH(B72,$B1:$B70,0)))","v":""},null,""]
[null,null,{"$f":"IF(B73=\"\",\"\",INDEX($D1:$D71,MATCH(B73,$B1:$B71,0)))","v":""},null,{"$f":"IF(B73=\"\",\"\",INDEX($C1:$C71,MATCH(B73,$B1:$B71,0)))","v":""},null,""]
[null,null,{"$f":"IF(B74=\"\",\"\",INDEX($D1:$D72,MATCH(B74,$B1:$B72,0)))","v":""},null,{"$f":"IF(B74=\"\",\"\",INDEX($C1:$C72,MATCH(B74,$B1:$B72,0)))","v":""},null,""]
[null,null,{"$f":"IF(B75=\"\",\"\",INDEX($D1:$D73,MATCH(B75,$B1:$B73,0)))","v":""},null,{"$f":"IF(B75=\"\",\"\",INDEX($C1:$C73,MATCH(B75,$B1:$B73,0)))","v":""},null,""]
[null,null,{"$f":"IF(B76=\"\",\"\",INDEX($D1:$D74,MATCH(B76,$B1:$B74,0)))","v":""},null,{"$f":"IF(B76=\"\",\"\",INDEX($C1:$C74,MATCH(B76,$B1:$B74,0)))","v":""},null,""]
[null,null,{"$f":"IF(B77=\"\",\"\",INDEX($D1:$D75,MATCH(B77,$B1:$B75,0)))","v":""},null,{"$f":"IF(B77=\"\",\"\",INDEX($C1:$C75,MATCH(B77,$B1:$B75,0)))","v":""},null,""]
[null,null,{"$f":"IF(B78=\"\",\"\",INDEX($D1:$D76,MATCH(B78,$B1:$B76,0)))","v":""},null,{"$f":"IF(B78=\"\",\"\",INDEX($C1:$C76,MATCH(B78,$B1:$B76,0)))","v":""},null,""]
[null,null,{"$f":"IF(B79=\"\",\"\",INDEX($D1:$D77,MATCH(B79,$B1:$B77,0)))","v":""},null,{"$f":"IF(B79=\"\",\"\",INDEX($C1:$C77,MATCH(B79,$B1:$B77,0)))","v":""},null,""]
[null,null,{"$f":"IF(B80=\"\",\"\",INDEX($D1:$D78,MATCH(B80,$B1:$B78,0)))","v":""},null,{"$f":"IF(B80=\"\",\"\",INDEX($C1:$C78,MATCH(B80,$B1:$B78,0)))","v":""},null,""]
[null,null,{"$f":"IF(B81=\"\",\"\",INDEX($D1:$D79,MATCH(B81,$B1:$B79,0)))","v":""},null,{"$f":"IF(B81=\"\",\"\",INDEX($C1:$C79,MATCH(B81,$B1:$B79,0)))","v":""},null,""]
[null,null,{"$f":"IF(B82=\"\",\"\",INDEX($D1:$D80,MATCH(B82,$B1:$B80,0)))","v":""},null,{"$f":"IF(B82=\"\",\"\",INDEX($C1:$C80,MATCH(B82,$B1:$B80,0)))","v":""},null,""]
[null,null,{"$f":"IF(B83=\"\",\"\",INDEX($D1:$D81,MATCH(B83,$B1:$B81,0)))","v":""},null,{"$f":"IF(B83=\"\",\"\",INDEX($C1:$C81,MATCH(B83,$B1:$B81,0)))","v":""},null,""]
[null,null,{"$f":"IF(B84=\"\",\"\",INDEX($D1:$D82,MATCH(B84,$B1:$B82,0)))","v":""},null,{"$f":"IF(B84=\"\",\"\",INDEX($C1:$C82,MATCH(B84,$B1:$B82,0)))","v":""},null,""]
[null,null,{"$f":"IF(B85=\"\",\"\",INDEX($D1:$D83,MATCH(B85,$B1:$B83,0)))","v":""},null,{"$f":"IF(B85=\"\",\"\",INDEX($C1:$C83,MATCH(B85,$B1:$B83,0)))","v":""},null,""]
[null,null,{"$f":"IF(B86=\"\",\"\",INDEX($D1:$D84,MATCH(B86,$B1:$B84,0)))","v":""},null,{"$f":"IF(B86=\"\",\"\",INDEX($C1:$C84,MATCH(B86,$B1:$B84,0)))","v":""},null,""]
[null,null,{"$f":"IF(B87=\"\",\"\",INDEX($D1:$D85,MATCH(B87,$B1:$B85,0)))","v":""},null,{"$f":"IF(B87=\"\",\"\",INDEX($C1:$C85,MATCH(B87,$B1:$B85,0)))","v":""},null,""]
[null,null,{"$f":"IF(B88=\"\",\"\",INDEX($D1:$D86,MATCH(B88,$B1:$B86,0)))","v":""},null,{"$f":"IF(B88=\"\",\"\",INDEX($C1:$C86,MATCH(B88,$B1:$B86,0)))","v":""},null,""]
[null,null,{"$f":"IF(B89=\"\",\"\",INDEX($D1:$D87,MATCH(B89,$B1:$B87,0)))","v":""},null,{"$f":"IF(B89=\"\",\"\",INDEX($C1:$C87,MATCH(B89,$B1:$B87,0)))","v":""},null,""]
[null,null,{"$f":"IF(B90=\"\",\"\",INDEX($D1:$D88,MATCH(B90,$B1:$B88,0)))","v":""},null,{"$f":"IF(B90=\"\",\"\",INDEX($C1:$C88,MATCH(B90,$B1:$B88,0)))","v":""},null,""]
[null,null,{"$f":"IF(B91=\"\",\"\",INDEX($D1:$D89,MATCH(B91,$B1:$B89,0)))","v":""},null,{"$f":"IF(B91=\"\",\"\",INDEX($C1:$C89,MATCH(B91,$B1:$B89,0)))","v":""},null,""]
[null,null,{"$f":"IF(B92=\"\",\"\",INDEX($D1:$D90,MATCH(B92,$B1:$B90,0)))","v":""},null,{"$f":"IF(B92=\"\",\"\",INDEX($C1:$C90,MATCH(B92,$B1:$B90,0)))","v":""},null,""]
[null,null,{"$f":"IF(B93=\"\",\"\",INDEX($D1:$D91,MATCH(B93,$B1:$B91,0)))","v":""},null,{"$f":"IF(B93=\"\",\"\",INDEX($C1:$C91,MATCH(B93,$B1:$B91,0)))","v":""},null,""]
[null,null,{"$f":"IF(B94=\"\",\"\",INDEX($D1:$D92,MATCH(B94,$B1:$B92,0)))","v":""},null,{"$f":"IF(B94=\"\",\"\",INDEX($C1:$C92,MATCH(B94,$B1:$B92,0)))","v":""},null,""]
[null,null,{"$f":"IF(B95=\"\",\"\",INDEX($D1:$D93,MATCH(B95,$B1:$B93,0)))","v":""},null,{"$f":"IF(B95=\"\",\"\",INDEX($C1:$C93,MATCH(B95,$B1:$B93,0)))","v":""},null,""]
[null,null,{"$f":"IF(B96=\"\",\"\",INDEX($D1:$D94,MATCH(B96,$B1:$B94,0)))","v":""},null,{"$f":"IF(B96=\"\",\"\",INDEX($C1:$C94,MATCH(B96,$B1:$B94,0)))","v":""},null,""]
[null,null,{"$f":"IF(B97=\"\",\"\",INDEX($D1:$D95,MATCH(B97,$B1:$B95,0)))","v":""},null,{"$f":"IF(B97=\"\",\"\",INDEX($C1:$C95,MATCH(B97,$B1:$B95,0)))","v":""},null,""]
[null,null,{"$f":"IF(B98=\"\",\"\",INDEX($D1:$D96,MATCH(B98,$B1:$B96,0)))","v":""},null,{"$f":"IF(B98=\"\",\"\",INDEX($C1:$C96,MATCH(B98,$B1:$B96,0)))","v":""},null,""]
[null,null,{"$f":"IF(B99=\"\",\"\",INDEX($D1:$D97,MATCH(B99,$B1:$B97,0)))","v":""},null,{"$f":"IF(B99=\"\",\"\",INDEX($C1:$C97,MATCH(B99,$B1:$B97,0)))","v":""},null,""]
[null,null,{"$f":"IF(B100=\"\",\"\",INDEX($D1:$D98,MATCH(B100,$B1:$B98,0)))","v":""},null,{"$f":"IF(B100=\"\",\"\",INDEX($C1:$C98,MATCH(B100,$B1:$B98,0)))","v":""},null,""]
[null,null,{"$f":"IF(B101=\"\",\"\",INDEX($D1:$D99,MATCH(B101,$B1:$B99,0)))","v":""},null,{"$f":"IF(B101=\"\",\"\",INDEX($C1:$C99,MATCH(B101,$B1:$B99,0)))","v":""},null,""]
[null,null,{"$f":"IF(B102=\"\",\"\",INDEX($D1:$D100,MATCH(B102,$B1:$B100,0)))","v":""},null,{"$f":"IF(B102=\"\",\"\",INDEX($C1:$C100,MATCH(B102,$B1:$B100,0)))","v":""},null,""]
[null,null,{"$f":"IF(B103=\"\",\"\",INDEX($D1:$D101,MATCH(B103,$B1:$B101,0)))","v":""},null,{"$f":"IF(B103=\"\",\"\",INDEX($C1:$C101,MATCH(B103,$B1:$B101,0)))","v":""},null,""]
[null,null,{"$f":"IF(B104=\"\",\"\",INDEX($D1:$D102,MATCH(B104,$B1:$B102,0)))","v":""},null,{"$f":"IF(B104=\"\",\"\",INDEX($C1:$C102,MATCH(B104,$B1:$B102,0)))","v":""},null,""]
[null,null,{"$f":"IF(B105=\"\",\"\",INDEX($D1:$D103,MATCH(B105,$B1:$B103,0)))","v":""},null,{"$f":"IF(B105=\"\",\"\",INDEX($C1:$C103,MATCH(B105,$B1:$B103,0)))","v":""},null,""]
[null,null,{"$f":"IF(B106=\"\",\"\",INDEX($D1:$D104,MATCH(B106,$B1:$B104,0)))","v":""},null,{"$f":"IF(B106=\"\",\"\",INDEX($C1:$C104,MATCH(B106,$B1:$B104,0)))","v":""},null,""]
[null,null,{"$f":"IF(B107=\"\",\"\",INDEX($D1:$D105,MATCH(B107,$B1:$B105,0)))","v":""},null,{"$f":"IF(B107=\"\",\"\",INDEX($C1:$C105,MATCH(B107,$B1:$B105,0)))","v":""},null,""]
[null,null,{"$f":"IF(B108=\"\",\"\",INDEX($D1:$D106,MATCH(B108,$B1:$B106,0)))","v":""},null,{"$f":"IF(B108=\"\",\"\",INDEX($C1:$C106,MATCH(B108,$B1:$B106,0)))","v":""},null,""]
[null,null,{"$f":"IF(B109=\"\",\"\",INDEX($D1:$D107,MATCH(B109,$B1:$B107,0)))","v":""},null,{"$f":"IF(B109=\"\",\"\",INDEX($C1:$C107,MATCH(B109,$B1:$B107,0)))","v":""},null,""]
[null,null,{"$f":"IF(B110=\"\",\"\",INDEX($D1:$D108,MATCH(B110,$B1:$B108,0)))","v":""},null,{"$f":"IF(B110=\"\",\"\",INDEX($C1:$C108,MATCH(B110,$B1:$B108,0)))","v":""},null,""]
[null,null,{"$f":"IF(B111=\"\",\"\",INDEX($D1:$D109,MATCH(B111,$B1:$B109,0)))","v":""},null,{"$f":"IF(B111=\"\",\"\",INDEX($C1:$C109,MATCH(B111,$B1:$B109,0)))","v":""},null,""]
[null,null,{"$f":"IF(B112=\"\",\"\",INDEX($D1:$D110,MATCH(B112,$B1:$B110,0)))","v":""},null,{"$f":"IF(B112=\"\",\"\",INDEX($C1:$C110,MATCH(B112,$B1:$B110,0)))","v":""},null,""]
[null,null,{"$f":"IF(B113=\"\",\"\",INDEX($D1:$D111,MATCH(B113,$B1:$B111,0)))","v":""},null,{"$f":"IF(B113=\"\",\"\",INDEX($C1:$C111,MATCH(B113,$B1:$B111,0)))","v":""},null,""]
[null,null,{"$f":"IF(B114=\"\",\"\",INDEX($D1:$D112,MATCH(B114,$B1:$B112,0)))","v":""},null,{"$f":"IF(B114=\"\",\"\",INDEX($C1:$C112,MATCH(B114,$B1:$B112,0)))","v":""},null,""]
[null,null,{"$f":"IF(B115=\"\",\"\",INDEX($D1:$D113,MATCH(B115,$B1:$B113,0)))","v":""},null,{"$f":"IF(B115=\"\",\"\",INDEX($C1:$C113,MATCH(B115,$B1:$B113,0)))","v":""},null,""]
[null,null,{"$f":"IF(B116=\"\",\"\",INDEX($D1:$D114,MATCH(B116,$B1:$B114,0)))","v":""},null,{"$f":"IF(B116=\"\",\"\",INDEX($C1:$C114,MATCH(B116,$B1:$B114,0)))","v":""},null,""]
[null,null,{"$f":"IF(B117=\"\",\"\",INDEX($D1:$D115,MATCH(B117,$B1:$B115,0)))","v":""},null,{"$f":"IF(B117=\"\",\"\",INDEX($C1:$C115,MATCH(B117,$B1:$B115,0)))","v":""},null,""]
[null,null,{"$f":"IF(B118=\"\",\"\",INDEX($D1:$D116,MATCH(B118,$B1:$B116,0)))","v":""},null,{"$f":"IF(B118=\"\",\"\",INDEX($C1:$C116,MATCH(B118,$B1:$B116,0)))","v":""},null,""]
[null,null,{"$f":"IF(B119=\"\",\"\",INDEX($D1:$D117,MATCH(B119,$B1:$B117,0)))","v":""},null,{"$f":"IF(B119=\"\",\"\",INDEX($C1:$C117,MATCH(B119,$B1:$B117,0)))","v":""},null,""]
[null,null,{"$f":"IF(B120=\"\",\"\",INDEX($D4:$D118,MATCH(B120,$B4:$B118,0)))","v":""},null,{"$f":"IF(B120=\"\",\"\",INDEX($C4:$C118,MATCH(B120,$B4:$B118,0)))","v":""},null,""]
[null,null,{"$f":"IF(B121=\"\",\"\",INDEX($D4:$D119,MATCH(B121,$B4:$B119,0)))","v":""},null,{"$f":"IF(B121=\"\",\"\",INDEX($C4:$C119,MATCH(B121,$B4:$B119,0)))","v":""},null,""]
[null,null,{"$f":"IF(B122=\"\",\"\",INDEX($D4:$D120,MATCH(B122,$B4:$B120,0)))","v":""},null,{"$f":"IF(B122=\"\",\"\",INDEX($C4:$C120,MATCH(B122,$B4:$B120,0)))","v":""},null,""]
[null,null,{"$f":"IF(B123=\"\",\"\",INDEX($D4:$D121,MATCH(B123,$B4:$B121,0)))","v":""},null,{"$f":"IF(B123=\"\",\"\",INDEX($C4:$C121,MATCH(B123,$B4:$B121,0)))","v":""},null,""]
[null,null,{"$f":"IF(B124=\"\",\"\",INDEX($D4:$D122,MATCH(B124,$B4:$B122,0)))","v":""},null,{"$f":"IF(B124=\"\",\"\",INDEX($C4:$C122,MATCH(B124,$B4:$B122,0)))","v":""},null,""]
[null,null,"",null,"",null,""]
[null,null,"",null,"",null,""]
[null,null,"",null,"",null,""]
[null,null,"",null,"",null,""]
[null,null,"",null,"",null,""]
[null,null,"",null,"",null,{"$f":"IF(C130=\"\",\"\",D130/C130)","v":""}]
[null,null,"",null,"",null,{"$f":"IF(C131=\"\",\"\",D131/C131)","v":""}]

{"sheet":"Med&Heavy","index":2,"n_rows":100,"n_cols":41,"rows_kept":100,"cut":false,"hidden":false,"merged":[[1,9,2,13],[3,9,3,13],[4,9,4,13]]}
[null,"2019-05-30",null,null,null,null,null,null,null,null,null,null,null,null,null,null,null,"January",null,"February",null,"March",null,"April",null,"May",null,"June",null,"July",null,"August",null,"September",null,"October",null,"November",null,"December"]
[null,null,null,{"$f":"DATE(YEAR(B1),1,1)","v":"2019-01-01"},null,null,null,null,null,"Medium & Heavy Grading (R,RS,M)",null,null,null,null,null,null,null,{"$f":"DATE(YEAR('Time Set'!$B$5),1,1)","v":"2019-01-01"},{"$f":"WEEKDAY(R2,2)","v":2},{"$f":"DATE(YEAR('Time Set'!$B$5),2,1)","v":"2019-02-01"},{"$f":"WEEKDAY(T2,2)","v":5},{"$f":"DATE(YEAR('Time Set'!$B$5),3,1)","v":"2019-03-01"},{"$f":"WEEKDAY(V2,2)","v":5},{"$f":"DATE(YEAR('Time Set'!$B$5),4,1)","v":"2019-04-01"},{"$f":"WEEKDAY(X2,2)","v":1},{"$f":"DATE(YEAR('Time Set'!$B$5),5,1)","v":"2019-05-01"},{"$f":"WEEKDAY(Z2,2)","v":3},{"$f":"DATE(YEAR('Time Set'!$B$5),6,1)","v":"2019-06-01"},{"$f":"WEEKDAY(AB2,2)","v":6},{"$f":"DATE(YEAR('Time Set'!$B$5),7,1)","v":"2019-07-01"},{"$f":"WEEKDAY(AD2,2)","v":1},{"$f":"DATE(YEAR('Time Set'!$B$5),8,1)","v":"2019-08-01"},{"$f":"WEEKDAY(AF2,2)","v":4},{"$f":"DATE(YEAR('Time Set'!$B$5),9,1)","v":"2019-09-01"},{"$f":"WEEKDAY(AH2,2)","v":7},{"$f":"DATE(YEAR('Time Set'!$B$5),10,1)","v":"2019-10-01"},{"$f":"WEEKDAY(AJ2,2)","v":2},{"$f":"DATE(YEAR('Time Set'!$B$5),11,1)","v":"2019-11-01"},{"$f":"WEEKDAY(AL2,2)","v":5},{"$f":"DATE(YEAR('Time Set'!$B$5),12,1)","v":"2019-12-01"},{"$f":"WEEKDAY(AN2,2)","v":7}]
[null,0,{"$f":"DATE(YEAR(B1),1,1)","v":"2019-01-01"},null,{"$f":"DATE(YEAR(D2),2,1)","v":"2019-02-01"},null,null,null,null,null,null,null,null,null,null,null,null,{"$f":"+R2+1","v":"2019-01-02"},{"$f":"WEEKDAY(R3,2)","v":3},{"$f":"+T2+1","v":"2019-02-02"},{"$f":"WEEKDAY(T3,2)","v":6},{"$f":"+V2+1","v":"2019-03-02"},{"$f":"WEEKDAY(V3,2)","v":6},{"$f":"+X2+1","v":"2019-04-02"},{"$f":"WEEKDAY(X3,2)","v":2},{"$f":"+Z2+1","v":"2019-05-02"},{"$f":"WEEKDAY(Z3,2)","v":4},{"$f":"+AB2+1","v":"2019-06-02"},{"$f":"WEEKDAY(AB3,2)","v":7},{"$f":"+AD2+1","v":"2019-07-02"},{"$f":"WEEKDAY(AD3,2)","v":2},{"$f":"+AF2+1","v":"2019-08-02"},{"$f":"WEEKDAY(AF3,2)","v":5},{"$f":"+AH2+1","v":"2019-09-02"},{"$f":"WEEKDAY(AH3,2)","v":1},{"$f":"+AJ2+1","v":"2019-10-02"},{"$f":"WEEKDAY(AJ3,2)","v":3},{"$f":"+AL2+1","v":"2019-11-02"},{"$f":"WEEKDAY(AL3,2)","v":6},{"$f":"+AN2+1","v":"2019-12-02"},{"$f":"WEEKDAY(AN3,2)","v":1}]
[null,0,{"$f":"DATE(YEAR(C3),MONTH(C3)+1,1)","v":"2019-02-01"},null,null,{"$f":"DATE(YEAR(D2),3,1)","v":"2019-03-01"},null,null,null,"Distribution of Working Days by",null,null,null,null,null,null,null,{"$f":"+R3+1","v":"2019-01-03"},4,{"$f":"+T3+1","v":"2019-02-03"},7,{"$f":"+V3+1","v":"2019-03-03"},7,{"$f":"+X3+1","v":"2019-04-03"},3,{"$f":"+Z3+1","v":"2019-05-03"},5,{"$f":"+AB3+1","v":"2019-06-03"},1,{"$f":"+AD3+1","v":"2019-07-03"},3,{"$f":"+AF3+1","v":"2019-08-03"},6,{"$f":"+AH3+1","v":"2019-09-03"},2,{"$f":"+AJ3+1","v":"2019-10-03"},4,{"$f":"+AL3+1","v":"2019-11-03"},7,{"$f":"+AN3+1","v":"2019-12-03"},2]
[null,0,{"$f":"DATE(YEAR(C4),MONTH(C4)+1,1)","v":"2019-03-01"},null,null,null,{"$f":"DATE(YEAR(D2),4,1)","v":"2019-04-01"},null,null,"Months, Cumulative Total per Month",null,null,null,null,null,null,null,"2019-01-04",5,"2019-02-04",1,"2019-03-04",1,"2019-04-04",4,"2019-05-04",6,"2019-06-04",2,"2019-07-04",4,"2019-08-04",7,"2019-09-04",3,"2019-10-04",5,"2019-11-04",1,"2019-12-04",3]
[4,{"$f":"+IF('Time Set'!$B$6=5,A6,IF('Time Set'!$B$6=6,A6+Y32, IF('Time Set'!$B$6=7, A6+Y32+Y33, 0)))","v":4},"2019-04-01",{"$f":"+D5+$B6","v":4},4,4,{"$f":"+B6","v":4},{"$f":"DATE(YEAR(D2),5,1)","v":"2019-05-01"},null,null,null,null,null,null,null,null,null,"2019-01-05",6,"2019-02-05",2,"2019-03-05",2,"2019-04-05",5,"2019-05-05",7,"2019-06-05",3,"2019-07-05",5,"2019-08-05",1,"2019-09-05",4,"2019-10-05",6,"2019-11-05",2,"2019-12-05",4]
[14,{"$f":"+IF('Time Set'!$B$6=5,A7,IF('Time Set'!$B$6=6,A7+AA33, IF('Time Set'!$B$6=7, A7+AA33+AA34, 0)))","v":14},"2019-05-01",18,18,18,{"$f":"+G6+$B7","v":18},{"$f":"+B7","v":14},{"$f":"DATE(YEAR(D2),6,1)","v":"2019-06-01"},null,null,null,null,null,null,null,null,"2019-01-06",7,"2019-02-06",3,"2019-03-06",3,"2019-04-06",6,"2019-05-06",1,"2019-06-06",4,"2019-07-06",6,"2019-08-06",2,"2019-09-06",5,"2019-10-06",7,"2019-11-06",3,"2019-12-06",5]
[16,{"$f":"+IF('Time Set'!$B$6=5,A8,IF('Time Set'!$B$6=6,A8+AC32, IF('Time Set'!$B$6=7, A8+AC32+AC33, 0)))","v":16},"2019-06-01",{"$f":"+D7+$B8","v":34},{"$f":"+E7+$B8","v":34},34,34,{"$f":"+H7+$B8","v":30},{"$f":"+B8","v":16},{"$f":"DATE(YEAR(D2),7,1)","v":"2019-07-01"},null,null,null,null,null,null,null,"2019-01-07",1,"2019-02-07",4,"2019-03-07",4,"2019-04-07",7,"2019-05-07",2,"2019-06-07",5,"2019-07-07",7,"2019-08-07",3,"2019-09-07",6,"2019-10-07",1,"2019-11-07",4,"2019-12-07",6]
[16,{"$f":"+IF('Time Set'!$B$6=5,A9,IF('Time Set'!$B$6=6,A9+AE33, IF('Time Set'!$B$6=7, A9+AE33+AE34, 0)))","v":16},"2019-07-01",50,50,50,50,46,32,{"$f":"+B9","v":16},{"$f":"DATE(YEAR(D2),8,1)","v":"2019-08-01"},null,null,null,null,null,null,"2019-01-08",2,"2019-02-08",5,"2019-03-08",5,"2019-04-08",1,"2019-05-08",3,"2019-06-08",6,"2019-07-08",1,"2019-08-08",4,"2019-09-08",7,"2019-10-08",2,"2019-11-08",5,"2019-12-08",7]
[18,{"$f":"+IF('Time Set'!$B$6=5,A10,IF('Time Set'!$B$6=6,A10+AG33, IF('Time Set'!$B$6=7, A10+AG33+AG34, 0)))","v":18},"2019-08-01",68,68,68,68,64,50,34,{"$f":"+B10","v":18},{"$f":"DATE(YEAR(D2),9,1)","v":"2019-09-01"},null,null,null,null,null,"2019-01-09",3,"2019-02-09",6,"2019-03-09",6,"2019-04-09",2,"2019-05-09",4,"2019-06-09",7,"2019-07-09",2,"2019-08-09",5,"2019-09-09",1,"2019-10-09",3,"2019-11-09",6,"2019-12-09",1]
[15,{"$f":"+IF('Time Set'!$B$6=5,A11,IF('Time Set'!$B$6=6,A11+AI32, IF('Time Set'!$B$6=7, A11+AI32+AI33, 0)))","v":15},"2019-09-01",83,83,83,83,79,65,49,33,{"$f":"+B11","v":15},{"$f":"DATE(YEAR(D2),10,1)","v":"2019-10-01"},null,null,null,null,"2019-01-10",4,"2019-02-10",7,"2019-03-10",7,"2019-04-10",3,"2019-05-10",5,"2019-06-10",1,"2019-07-10",3,"2019-08-10",6,"2019-09-10",2,"2019-10-10",4,"2019-11-10",7,"2019-12-10",2]
[16,{"$f":"+IF('Time Set'!$B$6=5,A12,IF('Time Set'!$B$6=6,A12+AK33, IF('Time Set'!$B$6=7, A12+AK33+AK34,0)))","v":16},"2019-10-01",99,99,99,99,95,81,65,49,31,{"$f":"+B12","v":16},{"$f":"DATE(YEAR(D2),11,1)","v":"2019-11-01"},null,null,null,"2019-01-11",5,"2019-02-11",1,"2019-03-11",1,"2019-04-11",4,"2019-05-11",6,"2019-06-11",2,"2019-07-11",4,"2019-08-11",7,"2019-09-11",3,"2019-10-11",5,"2019-11-11",1,"2019-12-11",3]
[8,{"$f":"+IF('Time Set'!$B$6=5,A13,IF('Time Set'!$B$6=6,A13+AM32, IF('Time Set'!$B$6=7, A13+AM32+AM33, 0)))","v":8},"2019-11-01",107,107,107,107,103,89,73,57,39,24,{"$f":"+B13","v":8},{"$f":"DATE(YEAR(D2),12,1)","v":"2019-12-01"},null,null,"2019-01-12",6,"2019-02-12",2,"2019-03-12",2,"2019-04-12",5,"2019-05-12",7,"2019-06-12",3,"2019-07-12",5,"2019-08-12",1,"2019-09-12",4,"2019-10-12",6,"2019-11-12",2,"2019-12-12",4]
[null,0,"2019-12-01",107,{"$f":"+E13+$B14","v":107},107,107,103,89,73,57,39,24,8,{"$f":"+B14","v":0},null,null,"2019-01-13",7,"2019-02-13",3,"2019-03-13",3,"2019-04-13",6,"2019-05-13",1,"2019-06-13",4,"2019-07-13",6,"2019-08-13",2,"2019-09-13",5,"2019-10-13",7,"2019-11-13",3,"2019-12-13",5]
[null,0,"2020-01-01",107,107,107,107,103,89,73,57,39,24,8,{"$f":"+O14+$B15","v":0},null,null,"2019-01-14",1,"2019-02-14",4,"2019-03-14",4,"2019-04-14",7,"2019-05-14",2,"2019-06-14",5,"2019-07-14",7,"2019-08-14",3,"2019-09-14",6,"2019-10-14",1,"2019-11-14",4,"2019-12-14",6]
[null,{"$f":"+B4","v":0},"2020-02-01",107,107,107,107,103,89,73,57,39,24,8,{"$f":"+O15+$B16","v":0},null,null,"2019-01-15",2,"2019-02-15",5,"2019-03-15",5,"2019-04-15",1,"2019-05-15",3,"2019-06-15",6,"2019-07-15",1,"2019-08-15",4,"2019-09-15",7,"2019-10-15",2,"2019-11-15",5,"2019-12-15",7]
[null,{"$f":"+B5","v":0},"2020-03-01",107,107,107,107,103,89,73,57,39,24,8,{"$f":"+O16+$B17","v":0},null,null,"2019-01-16",3,"2019-02-16",6,"2019-03-16",6,"2019-04-16",2,"2019-05-16",4,"2019-06-16",7,"2019-07-16",2,"2019-08-16",5,"2019-09-16",1,"2019-10-16",3,"2019-11-16",6,"2019-12-16",1]
[4,{"$f":"+IF('Time Set'!$B$6=5,A18,IF('Time Set'!$B$6=6,A18+Y64, IF('Time Set'!$B$6=7, A18+Y64+Y65, 0)))","v":4},"2020-04-01",111,111,111,111,107,93,77,61,43,28,12,{"$f":"+O17+$B18","v":4},null,null,"2019-01-17",4,"2019-02-17",7,"2019-03-17",7,"2019-04-17",3,"2019-05-17",5,"2019-06-17",1,"2019-07-17",3,"2019-08-17",6,"2019-09-17",2,"2019-10-17",4,"2019-11-17",7,"2019-12-17",2]
[14,{"$f":"+IF('Time Set'!$B$6=5,A19,IF('Time Set'!$B$6=6,A19+AA66, IF('Time Set'!$B$6=7, A19+AA66+AA67, 0)))","v":14},"2020-05-01",125,{"$f":"+E18+$B19","v":125},125,125,121,107,91,75,57,42,26,18,null,null,"2019-01-18",5,"2019-02-18",1,"2019-03-18",1,"2019-04-18",4,"2019-05-18",6,"2019-06-18",2,"2019-07-18",4,"2019-08-18",7,"2019-09-18",3,"2019-10-18",5,"2019-11-18",1,"2019-12-18",3]
[16,{"$f":"+IF('Time Set'!$B$6=5,A20,IF('Time Set'!$B$6=6,A20+AC64, IF('Time Set'!$B$6=7, A20+AC64+AC65, 0)))","v":16},"2020-06-01",141,141,141,141,137,123,107,91,73,58,42,34,null,null,"2019-01-19",6,"2019-02-19",2,"2019-03-19",2,"2019-04-19",5,"2019-05-19",7,"2019-06-19",3,"2019-07-19",5,"2019-08-19",1,"2019-09-19",4,"2019-10-19",6,"2019-11-19",2,"2019-12-19",4]
[16,{"$f":"+IF('Time Set'!$B$6=5,A21,IF('Time Set'!$B$6=6,A21+AE66, IF('Time Set'!$B$6=7, A21+AE66+AE67, 0)))","v":16},"2020-07-01",157,157,157,157,153,139,123,107,89,74,58,50,null,null,"2019-01-20",7,"2019-02-20",3,"2019-03-20",3,"2019-04-20",6,"2019-05-20",1,"2019-06-20",4,"2019-07-20",6,"2019-08-20",2,"2019-09-20",5,"2019-10-20",7,"2019-11-20",3,"2019-12-20",5]
[18,{"$f":"+IF('Time Set'!$B$6=5,A22,IF('Time Set'!$B$6=6,A22+AG66, IF('Time Set'!$B$6=7, A22+AG66+AG67, 0)))","v":18},"2020-08-01",175,175,175,175,171,157,141,125,107,92,76,68,null,null,"2019-01-21",1,"2019-02-21",4,"2019-03-21",4,"2019-04-21",7,"2019-05-21",2,"2019-06-21",5,"2019-07-21",7,"2019-08-21",3,"2019-09-21",6,"2019-10-21",1,"2019-11-21",4,"2019-12-21",6]
[15,{"$f":"+IF('Time Set'!$B$6=5,A23,IF('Time Set'!$B$6=6,A23+AI64, IF('Time Set'!$B$6=7, A23+AI64+AI65, 0)))","v":15},"2020-09-01",190,190,190,190,186,172,156,140,122,107,91,83,null,null,"2019-01-22",2,"2019-02-22",5,"2019-03-22",5,"2019-04-22",1,"2019-05-22",3,"2019-06-22",6,"2019-07-22",1,"2019-08-22",4,"2019-09-22",7,"2019-10-22",2,"2019-11-22",5,"2019-12-22",7]
[16,{"$f":"+IF('Time Set'!$B$6=5,A24,IF('Time Set'!$B$6=6,A24+AK66, IF('Time Set'!$B$6=7, A24+AK66+AK67,0)))","v":16},"2020-10-01",206,206,206,206,202,188,172,156,138,123,107,99,null,null,{"$f":"+R23+1","v":"2019-01-23"},3,"2019-02-23",6,"2019-03-23",6,"2019-04-23",2,"2019-05-23",4,"2019-06-23",7,"2019-07-23",2,"2019-08-23",5,"2019-09-23",1,"2019-10-23",3,"2019-11-23",6,"2019-12-23",1]
[8,{"$f":"+IF('Time Set'!$B$6=5,A25,IF('Time Set'!$B$6=6,A25+AM64, IF('Time Set'!$B$6=7, A25+AM64+AM65, 0)))","v":8},"2020-11-01",214,214,214,214,210,196,180,164,146,131,115,107,null,null,"2019-01-24",4,"2019-02-24",7,"2019-03-24",7,"2019-04-24",3,"2019-05-24",5,"2019-06-24",1,"2019-07-24",3,"2019-08-24",6,"2019-09-24",2,"2019-10-24",4,"2019-11-24",7,"2019-12-24",2]
[null,{"$f":"+B14","v":0},"2020-12-01",214,{"$f":"+E25+$B26","v":214},214,214,210,196,180,164,146,131,115,107,null,null,"2019-01-25",5,"2019-02-25",1,"2019-03-25",1,"2019-04-25",4,"2019-05-25",6,"2019-06-25",2,"2019-07-25",4,"2019-08-25",7,"2019-09-25",3,"2019-10-25",5,"2019-11-25",1,"2019-12-25",3]
[null,{"$f":"+B15","v":0},"2021-01-01",214,214,214,214,210,196,180,164,146,131,115,107,null,null,"2019-01-26",6,"2019-02-26",2,"2019-03-26",2,"2019-04-26",5,"2019-05-26",7,"2019-06-26",3,"2019-07-26",5,"2019-08-26",1,"2019-09-26",4,"2019-10-26",6,"2019-11-26",2,"2019-12-26",4]
[null,{"$f":"+B16","v":0},"2021-02-01",214,214,214,214,210,196,180,164,146,131,115,107,null,null,"2019-01-27",7,"2019-02-27",3,"2019-03-27",3,"2019-04-27",6,"2019-05-27",1,"2019-06-27",4,"2019-07-27",6,"2019-08-27",2,"2019-09-27",5,"2019-10-27",7,"2019-11-27",3,"2019-12-27",5]
[null,{"$f":"+B17","v":0},"2021-03-01",214,214,214,214,210,196,180,164,146,131,115,107,null,null,"2019-01-28",1,"2019-02-28",4,"2019-03-28",4,"2019-04-28",7,"2019-05-28",2,"2019-06-28",5,"2019-07-28",7,"2019-08-28",3,"2019-09-28",6,"2019-10-28",1,"2019-11-28",4,"2019-12-28",6]
[4,{"$f":"+IF('Time Set'!$B$6=5,A30,IF('Time Set'!$B$6=6,A30+Y96, IF('Time Set'!$B$6=7, A30+Y96+Y97, 0)))","v":4},"2021-04-01",218,218,218,218,214,200,184,168,150,135,119,111,null,null,{"$f":"+R29+1","v":"2019-01-29"},2,null,null,"2019-03-29",5,"2019-04-29",1,"2019-05-29",3,"2019-06-29",6,"2019-07-29",1,"2019-08-29",4,"2019-09-29",7,"2019-10-29",2,"2019-11-29",5,"2019-12-29",7]
[14,{"$f":"+IF('Time Set'!$B$6=5,A31,IF('Time Set'!$B$6=6,A31+Y99, IF('Time Set'!$B$6=7, A31+Y99+Y100, 0)))","v":14},"2021-05-01",{"$f":"+D30+$B31","v":232},232,232,232,228,214,198,182,164,149,133,125,null,null,{"$f":"+R30+1","v":"2019-01-30"},3,"Saturday",{"$f":"COUNTIF(U2:U29,6)","v":4},"2019-03-30",6,"2019-04-30",2,"2019-05-30",4,"2019-06-30",7,"2019-07-30",2,"2019-08-30",5,"2019-09-30",1,"2019-10-30",3,"2019-11-30",6,"2019-12-30",1]
[16,{"$f":"+IF('Time Set'!$B$6=5,A32,IF('Time Set'!$B$6=6,A32+Y96, IF('Time Set'!$B$6=7, A32+Y96+Y97, 0)))","v":16},"2021-06-01",248,248,248,248,244,230,214,198,180,165,149,141,null,null,{"$f":"+R31+1","v":"2019-01-31"},4,"Sunday",{"$f":"COUNTIF(U2:U29,7)","v":4},"2019-03-31",7,"Saturday",{"$f":"COUNTIF(Y2:Y31,6)","v":4},"2019-05-31",5,"Saturday",{"$f":"COUNTIF(AC2:AC31,6)","v":5},"2019-07-31",3,"2019-08-31",6,"Saturday",{"$f":"COUNTIF(AI2:AI31,6)","v":4},"2019-10-31",4,"Saturday",{"$f":"COUNTIF(AM2:AM31,6)","v":5},"2019-12-31",2]
[16,{"$f":"+IF('Time Set'!$B$6=5,A33,IF('Time Set'!$B$6=6,A33+Y99, IF('Time Set'!$B$6=7, A33+Y99+Y100, 0)))","v":16},"2021-07-01",264,264,264,264,260,246,230,214,196,181,165,157,null,null,"Saturday",{"$f":"COUNTIF(S2:S32,6)","v":4},{"$f":"DATE(YEAR('Time Set'!$B$5)+1,2,1)","v":"2020-02-01"},{"$f":"WEEKDAY(T33,2)","v":6},"Saturday",{"$f":"COUNTIF(W2:W32,6)","v":5},"Sunday",{"$f":"COUNTIF(Y2:Y31,7)","v":4},"Saturday",{"$f":"COUNTIF(AA2:AA32,6)","v":4},"Sunday",{"$f":"COUNTIF(AC2:AC31,7)","v":5},"Saturday",{"$f":"COUNTIF(AE2:AE32,6)","v":4},"Saturday",{"$f":"COUNTIF(AG2:AG32,6)","v":5},"Sunday",{"$f":"COUNTIF(AI2:AI31,7)","v":5},"Saturday",{"$f":"COUNTIF(AK2:AK32,6)","v":4},"Sunday",{"$f":"COUNTIF(AM2:AM31,7)","v":4},"Saturday",{"$f":"COUNTIF(AO2:AO32,6)","v":4}]
[18,{"$f":"+IF('Time Set'!$B$6=5,A34,IF('Time Set'!$B$6=6,A34+Y199, IF('Time Set'!$B$6=7, A34+Y99+Y100, 0)))","v":18},"2021-08-01",282,282,282,282,278,264,248,232,214,199,183,175,null,null,"Sunday",{"$f":"COUNTIF(S2:S32,7)","v":4},{"$f":"+T33+1","v":"2020-02-02"},7,"Sunday",{"$f":"COUNTIF(W2:W32,7)","v":5},{"$f":"DATE(YEAR('Time Set'!$B$5)+1,4,1)","v":"2020-04-01"},{"$f":"WEEKDAY(X34,2)","v":3},"Sunday",{"$f":"COUNTIF(AA2:AA32,7)","v":4},{"$f":"DATE(YEAR('Time Set'!$B$5)+1,6,1)","v":"2020-06-01"},{"$f":"WEEKDAY(AB34,2)","v":1},"Sunday",{"$f":"COUNTIF(AE2:AE32,7)","v":4},"Sunday",{"$f":"COUNTIF(AG2:AG32,7)","v":4},{"$f":"DATE(YEAR('Time Set'!$B$5)+1,9,1)","v":"2020-09-01"},{"$f":"WEEKDAY(AH34,2)","v":2},"Sunday",{"$f":"COUNTIF(AK2:AK32,7)","v":4},{"$f":"DATE(YEAR('Time Set'!$B$5)+1,11,1)","v":"2020-11-01"},{"$f":"WEEKDAY(AL34,2)","v":7},"Sunday",{"$f":"COUNTIF(AO2:AO32,7)","v":5}]
[15,{"$f":"+IF('Time Set'!$B$6=5,A35,IF('Time Set'!$B$6=6,A35+Y96, IF('Time Set'!$B$6=7, A35+Y96+Y97, 0)))","v":15},"2021-09-01",297,297,297,297,293,279,263,247,229,214,198,190,null,null,{"$f":"DATE(YEAR('Time Set'!B5)+1,1,1)","v":"2020-01-01"},{"$f":"WEEKDAY(R35,2)","v":3},{"$f":"+T34+1","v":"2020-02-03"},1,{"$f":"DATE(YEAR('Time Set'!$B$5)+1,3,1)","v":"2020-03-01"},{"$f":"WEEKDAY(V35,2)","v":7},{"$f":"+X34+1","v":"2020-04-02"},{"$f":"WEEKDAY(X35,2)","v":4},{"$f":"DATE(YEAR('Time Set'!$B$5)+1,5,1)","v":"2020-05-01"},{"$f":"WEEKDAY(Z35,2)","v":5},{"$f":"+AB34+1","v":"2020-06-02"},{"$f":"WEEKDAY(AB35,2)","v":2},{"$f":"DATE(YEAR('Time Set'!$B$5)+1,7,1)","v":"2020-07-01"},{"$f":"WEEKDAY(AD35,2)","v":3},{"$f":"DATE(YEAR('Time Set'!$B$5)+1,8,1)","v":"2020-08-01"},{"$f":"WEEKDAY(AF35,2)","v":6},{"$f":"+AH34+1","v":"2020-09-02"},{"$f":"WEEKDAY(AH35,2)","v":3},{"$f":"DATE(YEAR('Time Set'!$B$5)+1,10,1)","v":"2020-10-01"},{"$f":"WEEKDAY(AJ35,2)","v":4},{"$f":"+AL34+1","v":"2020-11-02"},{"$f":"WEEKDAY(AL35,2)","v":1},{"$f":"DATE(YEAR('Time Set'!$B$5)+1,12,1)","v":"2020-12-01"},{"$f":"WEEKDAY(AN35,2)","v":2}]
[16,{"$f":"+IF('Time Set'!$B$6=5,A36,IF('Time Set'!$B$6=6,A36+Y99, IF('Time Set'!$B$6=7, A36+Y99+Y100, 0)))","v":16},"2021-10-01",{"$f":"+D35+$B36","v":313},313,313,313,309,295,279,263,245,230,214,206,null,null,{"$f":"+R35+1","v":"2020-01-02"},{"$f":"WEEKDAY(R36,2)","v":4},"2020-02-04",2,{"$f":"+V35+1","v":"2020-03-02"},{"$f":"WEEKDAY(V36,2)","v":1},{"$f":"+X35+1","v":"2020-04-03"},5,{"$f":"+Z35+1","v":"2020-05-02"},{"$f":"WEEKDAY(Z36,2)","v":6},{"$f":"+AB35+1","v":"2020-06-03"},3,{"$f":"+AD35+1","v":"2020-07-02"},{"$f":"WEEKDAY(AD36,2)","v":4},{"$f":"+AF35+1","v":"2020-08-02"},{"$f":"WEEKDAY(AF36,2)","v":7},{"$f":"+AH35+1","v":"2020-09-03"},4,{"$f":"+AJ35+1","v":"2020-10-02"},{"$f":"WEEKDAY(AJ36,2)","v":5},{"$f":"+AL35+1","v":"2020-11-03"},2,{"$f":"+AN35+1","v":"2020-12-02"},{"$f":"WEEKDAY(AN36,2)","v":3}]
[8,{"$f":"+IF('Time Set'!$B$6=5,A37,IF('Time Set'!$B$6=6,A37+Y96, IF('Time Set'!$B$6=7, A37+Y96+Y97, 0)))","v":8},"2021-11-01",321,321,321,321,317,303,287,271,253,238,222,214,null,null,{"$f":"+R36+1","v":"2020-01-03"},{"$f":"WEEKDAY(R37,2)","v":5},"2020-02-05",3,{"$f":"+V36+1","v":"2020-03-03"},2,"2020-04-04",6,{"$f":"+Z36+1","v":"2020-05-03"},7,"2020-06-04",4,{"$f":"+AD36+1","v":"2020-07-03"},5,{"$f":"+AF36+1","v":"2020-08-03"},1,"2020-09-04",5,{"$f":"+AJ36+1","v":"2020-10-03"},6,"2020-11-04",3,{"$f":"+AN36+1","v":"2020-12-03"},4]
[null,{"$f":"+B26","v":0},"2021-12-01",null,null,null,null,null,null,null,null,null,null,null,null,null,null,"2020-01-04",6,"2020-02-06",4,"2020-03-04",3,"2020-04-05",7,"2020-05-04",1,"2020-06-05",5,"2020-07-04",6,"2020-08-04",2,"2020-09-05",6,"2020-10-04",7,"2020-11-05",4,"2020-12-04",5]
[null,null,null,null,null,null,null,null,null,null,null,null,null,null,null,null,null,"2020-01-05",7,"2020-02-07",5,"2020-03-05",4,"2020-04-06",1,"2020-05-05",2,"2020-06-06",6,"2020-07-05",7,"2020-08-05",3,"2020-09-06",7,"2020-10-05",1,"2020-11-06",5,"2020-12-05",6]
[null,null,null,null,null,null,null,null,null,null,null,null,null,null,null,null,null,"2020-01-06",1,"2020-02-08",6,"2020-03-06",5,"2020-04-07",2,"2020-05-06",3,"2020-06-07",7,"2020-07-06",1,"2020-08-06",4,"2020-09-07",1,"2020-10-06",2,"2020-11-07",6,"2020-12-06",7]
[null,null,null,null,null,null,null,null,null,null,null,null,null,null,null,null,null,"2020-01-07",2,"2020-02-09",7,"2020-03-07",6,"2020-04-08",3,"2020-05-07",4,"2020-06-08",1,"2020-07-07",2,"2020-08-07",5,"2020-09-08",2,"2020-10-07",3,"2020-11-08",7,"2020-12-07",1]
[null,null,null,null,null,null,null,null,null,null,null,null,null,null,null,null,null,"2020-01-08",3,"2020-02-10",1,"2020-03-08",7,"2020-04-09",4,"2020-05-08",5,"2020-06-09",2,"2020-07-08",3,"2020-08-08",6,"2020-09-09",3,"2020-10-08",4,"2020-11-09",1,"2020-12-08",2]
[null,null,null,null,null,null,null,null,null,null,null,null,null,null,null,null,null,"2020-01-09",4,"2020-02-11",2,"2020-03-09",1,"2020-04-10",5,"2020-05-09",6,"2020-06-10",3,"2020-07-09",4,"2020-08-09",7,"2020-09-10",4,"2020-10-09",5,"2020-11-10",2,"2020-12-09",3]
[null,null,null,null,null,null,null,null,null,null,null,null,null,null,null,null,null,"2020-01-10",5,"2020-02-12",3,"2020-03-10",2,"2020-04-11",6,"2020-05-10",7,"2020-06-11",4,"2020-07-10",5,"2020-08-10",1,"2020-09-11",5,"2020-10-10",6,"2020-11-11",3,"2020-12-10",4]
[null,null,null,null,null,null,null,null,null,null,null,null,null,null,null,null,null,"2020-01-11",6,"2020-02-13",4,"2020-03-11",3,"2020-04-12",7,"2020-05-11",1,"2020-06-12",5,"2020-07-11",6,"2020-08-11",2,"2020-09-12",6,"2020-10-11",7,"2020-11-12",4,"2020-12-11",5]
[null,null,null,null,null,null,null,null,null,null,null,null,null,null,null,null,null,"2020-01-12",7,"2020-02-14",5,"2020-03-12",4,"2020-04-13",1,"2020-05-12",2,"2020-06-13",6,"2020-07-12",7,"2020-08-12",3,"2020-09-13",7,"2020-10-12",1,"2020-11-13",5,"2020-12-12",6]
[null,null,null,null,null,null,null,null,null,null,null,null,null,null,null,null,null,"2020-01-13",1,"2020-02-15",6,"2020-03-13",5,"2020-04-14",2,"2020-05-13",3,"2020-06-14",7,"2020-07-13",1,"2020-08-13",4,"2020-09-14",1,"2020-10-13",2,"2020-11-14",6,"2020-12-13",7]
[null,null,null,null,null,null,null,null,null,null,null,null,null,null,null,null,null,"2020-01-14",2,"2020-02-16",7,"2020-03-14",6,"2020-04-15",3,"2020-05-14",4,"2020-06-15",1,"2020-07-14",2,"2020-08-14",5,"2020-09-15",2,"2020-10-14",3,"2020-11-15",7,"2020-12-14",1]
[null,null,null,null,null,null,null,null,null,null,null,null,null,null,null,null,null,"2020-01-15",3,"2020-02-17",1,"2020-03-15",7,"2020-04-16",4,"2020-05-15",5,"2020-06-16",2,"2020-07-15",3,"2020-08-15",6,"2020-09-16",3,"2020-10-15",4,"2020-11-16",1,"2020-12-15",2]
[null,null,null,null,null,null,null,null,null,null,null,null,null,null,null,null,null,"2020-01-16",4,"2020-02-18",2,"2020-03-16",1,"2020-04-17",5,"2020-05-16",6,"2020-06-17",3,"2020-07-16",4,"2020-08-16",7,"2020-09-17",4,"2020-10-16",5,"2020-11-17",2,"2020-12-16",3]
[null,null,null,null,null,null,null,null,null,null,null,null,null,null,null,null,null,"2020-01-17",5,"2020-02-19",3,"2020-03-17",2,"2020-04-18",6,"2020-05-17",7,"2020-06-18",4,"2020-07-17",5,"2020-08-17",1,"2020-09-18",5,"2020-10-17",6,"2020-11-18",3,"2020-12-17",4]
[null,null,null,null,null,null,null,null,null,null,null,null,null,null,null,null,null,"2020-01-18",6,"2020-02-20",4,"2020-03-18",3,"2020-04-19",7,"2020-05-18",1,"2020-06-19",5,"2020-07-18",6,"2020-08-18",2,"2020-09-19",6,"2020-10-18",7,"2020-11-19",4,"2020-12-18",5]
[null,null,null,null,null,null,null,null,null,null,null,null,null,null,null,null,null,"2020-01-19",7,"2020-02-21",5,"2020-03-19",4,"2020-04-20",1,"2020-05-19",2,"2020-06-20",6,"2020-07-19",7,"2020-08-19",3,"2020-09-20",7,"2020-10-19",1,"2020-11-20",5,"2020-12-19",6]
[null,null,null,null,null,null,null,null,null,null,null,null,null,null,null,null,null,"2020-01-20",1,"2020-02-22",6,"2020-03-20",5,"2020-04-21",2,"2020-05-20",3,"2020-06-21",7,"2020-07-20",1,"2020-08-20",4,"2020-09-21",1,"2020-10-20",2,"2020-11-21",6,"2020-12-20",7]
[null,null,null,null,null,null,null,null,null,null,null,null,null,null,null,null,null,"2020-01-21",2,"2020-02-23",7,"2020-03-21",6,"2020-04-22",3,"2020-05-21",4,"2020-06-22",1,"2020-07-21",2,"2020-08-21",5,"2020-09-22",2,"2020-10-21",3,"2020-11-22",7,"2020-12-21",1]
[null,null,null,null,null,null,null,null,null,null,null,null,null,null,null,null,null,"2020-01-22",3,"2020-02-24",1,"2020-03-22",7,"2020-04-23",4,"2020-05-22",5,"2020-06-23",2,"2020-07-22",3,"2020-08-22",6,"2020-09-23",3,"2020-10-22",4,"2020-11-23",1,"2020-12-22",2]
[null,null,null,null,null,null,null,null,null,null,null,null,null,null,null,null,null,"2020-01-23",4,"2020-02-25",2,"2020-03-23",1,"2020-04-24",5,"2020-05-23",6,"2020-06-24",3,"2020-07-23",4,"2020-08-23",7,"2020-09-24",4,"2020-10-23",5,"2020-11-24",2,"2020-12-23",3]
[null,null,null,null,null,null,null,null,null,null,null,null,null,null,null,null,null,"2020-01-24",5,"2020-02-26",3,"2020-03-24",2,"2020-04-25",6,"2020-05-24",7,"2020-06-25",4,"2020-07-24",5,"2020-08-24",1,"2020-09-25",5,"2020-10-24",6,"2020-11-25",3,"2020-12-24",4]
[null,null,null,null,null,null,null,null,null,null,null,null,null,null,null,null,null,"2020-01-25",6,"2020-02-27",4,"2020-03-25",3,"2020-04-26",7,"2020-05-25",1,"2020-06-26",5,"2020-07-25",6,"2020-08-25",2,"2020-09-26",6,"2020-10-25",7,"2020-11-26",4,"2020-12-25",5]
[null,null,null,null,null,null,null,null,null,null,null,null,null,null,null,null,null,"2020-01-26",7,"2020-02-28",5,"2020-03-26",4,"2020-04-27",1,"2020-05-26",2,"2020-06-27",6,"2020-07-26",7,"2020-08-26",3,"2020-09-27",7,"2020-10-26",1,"2020-11-27",5,"2020-12-26",6]
[null,null,null,null,null,null,null,null,null,null,null,null,null,null,null,null,null,"2020-01-27",1,"2020-02-29",6,"2020-03-27",5,"2020-04-28",2,"2020-05-27",3,"2020-06-28",7,"2020-07-27",1,"2020-08-27",4,"2020-09-28",1,"2020-10-27",2,"2020-11-28",6,"2020-12-27",7]
[null,null,null,null,null,null,null,null,null,null,null,null,null,null,null,null,null,"2020-01-28",2,"Saturday",{"$f":"COUNTIF(U33:U60,6)","v":4},"2020-03-28",6,"2020-04-29",3,"2020-05-28",4,"2020-06-29",1,"2020-07-28",2,"2020-08-28",5,"2020-09-29",2,"2020-10-28",3,"2020-11-29",7,"2020-12-28",1]
[null,null,null,null,null,null,null,null,null,null,null,null,null,null,null,null,null,"2020-01-29",3,"Sunday",{"$f":"COUNTIF(U33:U60,7)","v":4},"2020-03-29",7,"2020-04-30",4,"2020-05-29",5,"2020-06-30",2,"2020-07-29",3,"2020-08-29",6,"2020-09-30",3,"2020-10-29",4,"2020-11-30",1,"2020-12-29",2]
[null,null,null,null,null,null,null,null,null,null,null,null,null,null,null,null,null,"2020-01-30",4,{"$f":"DATE(YEAR('Time Set'!$B$5)+2,2,1)","v":"2021-02-01"},1,"2020-03-30",1,"Saturday",{"$f":"COUNTIF(Y34:Y63,6)","v":4},"2020-05-30",6,"Saturday",{"$f":"COUNTIF(AC34:AC63,6)","v":4},"2020-07-30",4,"2020-08-30",7,"Saturday",{"$f":"COUNTIF(AI34:AI63,6)","v":4},"2020-10-30",5,"Saturday",{"$f":"COUNTIF(AM34:AM63,6)","v":4},"2020-12-30",3]
[null,null,null,null,null,null,null,null,null,null,null,null,null,null,null,null,null,"2020-01-31",5,{"$f":"+T64+1","v":"2021-02-02"},2,"2020-03-31",2,"Sunday",{"$f":"COUNTIF(Y34:Y63,7)","v":4},"2020-05-31",7,"Sunday",{"$f":"COUNTIF(AC34:AC63,7)","v":4},"2020-07-31",5,"2020-08-31",1,"Sunday",{"$f":"COUNTIF(AI34:AI63,7)","v":4},"2020-10-31",6,"Sunday",{"$f":"COUNTIF(AM34:AM63,7)","v":5},"2020-12-31",4]
[null,null,null,null,null,null,null,null,null,null,null,null,null,null,null,null,null,"Saturday",{"$f":"COUNTIF(S35:S65,6)","v":4},{"$f":"+T65+1","v":"2021-02-03"},3,"Saturday",{"$f":"COUNTIF(W35:W65,6)","v":4},{"$f":"DATE(YEAR('Time Set'!$B$5)+2,4,1)","v":"2021-04-01"},{"$f":"WEEKDAY(X66,2)","v":4},"Saturday",{"$f":"COUNTIF(AA35:AA65,6)","v":5},{"$f":"DATE(YEAR('Time Set'!$B$5)+2,6,1)","v":"2021-06-01"},{"$f":"WEEKDAY(AB66,2)","v":2},"Saturday",{"$f":"COUNTIF(AE35:AE65,6)","v":4},"Saturday",{"$f":"COUNTIF(AG35:AG65,6)","v":5},{"$f":"DATE(YEAR('Time Set'!$B$5)+2,9,1)","v":"2021-09-01"},{"$f":"WEEKDAY(AH66,2)","v":3},"Saturday",{"$f":"COUNTIF(AK35:AK65,6)","v":5},{"$f":"DATE(YEAR('Time Set'!$B$5)+2,11,1)","v":"2021-11-01"},{"$f":"WEEKDAY(AL66,2)","v":1},"Saturday",{"$f":"COUNTIF(AO35:AO65,6)","v":4}]
[null,null,null,null,null,null,null,null,null,null,null,null,null,null,null,null,null,"Sunday",{"$f":"COUNTIF(S35:S65,7)","v":4},"2021-02-04",4,"Sunday",{"$f":"COUNTIF(W35:W65,7)","v":5},{"$f":"+X66+1","v":"2021-04-02"},{"$f":"WEEKDAY(X67,2)","v":5},"Sunday",{"$f":"COUNTIF(AA35:AA65,7)","v":5},{"$f":"+AB66+1","v":"2021-06-02"},{"$f":"WEEKDAY(AB67,2)","v":3},"Sunday",{"$f":"COUNTIF(AE35:AE65,7)","v":4},"Sunday",{"$f":"COUNTIF(AG35:AG65,7)","v":5},{"$f":"+AH66+1","v":"2021-09-02"},{"$f":"WEEKDAY(AH67,2)","v":4},"Sunday",{"$f":"COUNTIF(AK35:AK65,7)","v":4},{"$f":"+AL66+1","v":"2021-11-02"},{"$f":"WEEKDAY(AL67,2)","v":2},"Sunday",{"$f":"COUNTIF(AO35:AO65,7)","v":4}]
[null,null,null,null,null,null,null,null,null,null,null,null,null,null,null,null,null,{"$f":"DATE(YEAR('Time Set'!B5)+2,1,1)","v":"2021-01-01"},{"$f":"WEEKDAY(R68,2)","v":5},"2021-02-05",5,{"$f":"DATE(YEAR('Time Set'!$B$5)+2,3,1)","v":"2021-03-01"},{"$f":"WEEKDAY(V68,2)","v":1},{"$f":"+X67+1","v":"2021-04-03"},6,{"$f":"DATE(YEAR('Time Set'!$B$5)+2,5,1)","v":"2021-05-01"},{"$f":"WEEKDAY(Z68,2)","v":6},{"$f":"+AB67+1","v":"2021-06-03"},4,{"$f":"DATE(YEAR('Time Set'!$B$5)+2,7,1)","v":"2021-07-01"},{"$f":"WEEKDAY(AD68,2)","v":4},{"$f":"DATE(YEAR('Time Set'!$B$5)+2,8,1)","v":"2021-08-01"},{"$f":"WEEKDAY(AF68,2)","v":7},{"$f":"+AH67+1","v":"2021-09-03"},5,{"$f":"DATE(YEAR('Time Set'!$B$5)+2,10,1)","v":"2021-10-01"},{"$f":"WEEKDAY(AJ68,2)","v":5},{"$f":"+AL67+1","v":"2021-11-03"},3,{"$f":"DATE(YEAR('Time Set'!$B$5)+2,12,1)","v":"2021-12-01"},{"$f":"WEEKDAY(AN68,2)","v":3}]
[null,null,null,null,null,null,null,null,null,null,null,null,null,null,null,null,null,{"$f":"+R68+1","v":"2021-01-02"},{"$f":"WEEKDAY(R69,2)","v":6},"2021-02-06",6,{"$f":"+V68+1","v":"2021-03-02"},{"$f":"WEEKDAY(V69,2)","v":2},"2021-04-04",7,{"$f":"+Z68+1","v":"2021-05-02"},{"$f":"WEEKDAY(Z69,2)","v":7},"2021-06-04",5,{"$f":"+AD68+1","v":"2021-07-02"},{"$f":"WEEKDAY(AD69,2)","v":5},{"$f":"+AF68+1","v":"2021-08-02"},{"$f":"WEEKDAY(AF69,2)","v":1},"2021-09-04",6,{"$f":"+AJ68+1","v":"2021-10-02"},{"$f":"WEEKDAY(AJ69,2)","v":6},"2021-11-04",4,{"$f":"+AN68+1","v":"2021-12-02"},{"$f":"WEEKDAY(AN69,2)","v":4}]
[null,null,null,null,null,null,null,null,null,null,null,null,null,null,null,null,null,{"$f":"+R69+1","v":"2021-01-03"},7,"2021-02-07",7,{"$f":"+V69+1","v":"2021-03-03"},3,"2021-04-05",1,{"$f":"+Z69+1","v":"2021-05-03"},1,"2021-06-05",6,{"$f":"+AD69+1","v":"2021-07-03"},6,{"$f":"+AF69+1","v":"2021-08-03"},2,"2021-09-05",7,{"$f":"+AJ69+1","v":"2021-10-03"},7,"2021-11-05",5,{"$f":"+AN69+1","v":"2021-12-03"},5]
[null,null,null,null,null,null,null,null,null,null,null,null,null,null,null,null,null,"2021-01-04",1,"2021-02-08",1,"2021-03-04",4,"2021-04-06",2,"2021-05-04",2,"2021-06-06",7,"2021-07-04",7,"2021-08-04",3,"2021-09-06",1,"2021-10-04",1,"2021-11-06",6,"2021-12-04",6]
[null,null,null,null,null,null,null,null,null,null,null,null,null,null,null,null,null,"2021-01-05",2,"2021-02-09",2,"2021-03-05",5,"2021-04-07",3,"2021-05-05",3,"2021-06-07",1,"2021-07-05",1,"2021-08-05",4,"2021-09-07",2,"2021-10-05",2,"2021-11-07",7,"2021-12-05",7]
[null,null,null,null,null,null,null,null,null,null,null,null,null,null,null,null,null,"2021-01-06",3,"2021-02-10",3,"2021-03-06",6,"2021-04-08",4,"2021-05-06",4,"2021-06-08",2,"2021-07-06",2,"2021-08-06",5,"2021-09-08",3,"2021-10-06",3,"2021-11-08",1,"2021-12-06",1]
[null,null,null,null,null,null,null,null,null,null,null,null,null,null,null,null,null,"2021-01-07",4,"2021-02-11",4,"2021-03-07",7,"2021-04-09",5,"2021-05-07",5,"2021-06-09",3,"2021-07-07",3,"2021-08-07",6,"2021-09-09",4,"2021-10-07",4,"2021-11-09",2,"2021-12-07",2]
[null,null,null,null,null,null,null,null,null,null,null,null,null,null,null,null,null,"2021-01-08",5,"2021-02-12",5,"2021-03-08",1,"2021-04-10",6,"2021-05-08",6,"2021-06-10",4,"2021-07-08",4,"2021-08-08",7,"2021-09-10",5,"2021-10-08",5,"2021-11-10",3,"2021-12-08",3]
[null,null,null,null,null,null,null,null,null,null,null,null,null,null,null,null,null,"2021-01-09",6,"2021-02-13",6,"2021-03-09",2,"2021-04-11",7,"2021-05-09",7,"2021-06-11",5,"2021-07-09",5,"2021-08-09",1,"2021-09-11",6,"2021-10-09",6,"2021-11-11",4,"2021-12-09",4]
[null,null,null,null,null,null,null,null,null,null,null,null,null,null,null,null,null,"2021-01-10",7,"2021-02-14",7,"2021-03-10",3,"2021-04-12",1,"2021-05-10",1,"2021-06-12",6,"2021-07-10",6,"2021-08-10",2,"2021-09-12",7,"2021-10-10",7,"2021-11-12",5,"2021-12-10",5]
[null,null,null,null,null,null,null,null,null,null,null,null,null,null,null,null,null,"2021-01-11",1,"2021-02-15",1,"2021-03-11",4,"2021-04-13",2,"2021-05-11",2,"2021-06-13",7,"2021-07-11",7,"2021-08-11",3,"2021-09-13",1,"2021-10-11",1,"2021-11-13",6,"2021-12-11",6]
[null,null,null,null,null,null,null,null,null,null,null,null,null,null,null,null,null,"2021-01-12",2,"2021-02-16",2,"2021-03-12",5,"2021-04-14",3,"2021-05-12",3,"2021-06-14",1,"2021-07-12",1,"2021-08-12",4,"2021-09-14",2,"2021-10-12",2,"2021-11-14",7,"2021-12-12",7]
[null,null,null,null,null,null,null,null,null,null,null,null,null,null,null,null,null,"2021-01-13",3,"2021-02-17",3,"2021-03-13",6,"2021-04-15",4,"2021-05-13",4,"2021-06-15",2,"2021-07-13",2,"2021-08-13",5,"2021-09-15",3,"2021-10-13",3,"2021-11-15",1,"2021-12-13",1]
[null,null,null,null,null,null,null,null,null,null,null,null,null,null,null,null,null,"2021-01-14",4,"2021-02-18",4,"2021-03-14",7,"2021-04-16",5,"2021-05-14",5,"2021-06-16",3,"2021-07-14",3,"2021-08-14",6,"2021-09-16",4,"2021-10-14",4,"2021-11-16",2,"2021-12-14",2]
[null,null,null,null,null,null,null,null,null,null,null,null,null,null,null,null,null,"2021-01-15",5,"2021-02-19",5,"2021-03-15",1,"2021-04-17",6,"2021-05-15",6,"2021-06-17",4,"2021-07-15",4,"2021-08-15",7,"2021-09-17",5,"2021-10-15",5,"2021-11-17",3,"2021-12-15",3]
[null,null,null,null,null,null,null,null,null,null,null,null,null,null,null,null,null,"2021-01-16",6,"2021-02-20",6,"2021-03-16",2,"2021-04-18",7,"2021-05-16",7,"2021-06-18",5,"2021-07-16",5,"2021-08-16",1,"2021-09-18",6,"2021-10-16",6,"2021-11-18",4,"2021-12-16",4]
[null,null,null,null,null,null,null,null,null,null,null,null,null,null,null,null,null,"2021-01-17",7,"2021-02-21",7,"2021-03-17",3,"2021-04-19",1,"2021-05-17",1,"2021-06-19",6,"2021-07-17",6,"2021-08-17",2,"2021-09-19",7,"2021-10-17",7,"2021-11-19",5,"2021-12-17",5]
[null,null,null,null,null,null,null,null,null,null,null,null,null,null,null,null,null,"2021-01-18",1,"2021-02-22",1,"2021-03-18",4,"2021-04-20",2,"2021-05-18",2,"2021-06-20",7,"2021-07-18",7,"2021-08-18",3,"2021-09-20",1,"2021-10-18",1,"2021-11-20",6,"2021-12-18",6]
[null,null,null,null,null,null,null,null,null,null,null,null,null,null,null,null,null,"2021-01-19",2,"2021-02-23",2,"2021-03-19",5,"2021-04-21",3,"2021-05-19",3,"2021-06-21",1,"2021-07-19",1,"2021-08-19",4,"2021-09-21",2,"2021-10-19",2,"2021-11-21",7,"2021-12-19",7]
[null,null,null,null,null,null,null,null,null,null,null,null,null,null,null,null,null,"2021-01-20",3,"2021-02-24",3,"2021-03-20",6,"2021-04-22",4,"2021-05-20",4,"2021-06-22",2,"2021-07-20",2,"2021-08-20",5,"2021-09-22",3,"2021-10-20",3,"2021-11-22",1,"2021-12-20",1]
[null,null,null,null,null,null,null,null,null,null,null,null,null,null,null,null,null,"2021-01-21",4,"2021-02-25",4,"2021-03-21",7,"2021-04-23",5,"2021-05-21",5,"2021-06-23",3,"2021-07-21",3,"2021-08-21",6,"2021-09-23",4,"2021-10-21",4,"2021-11-23",2,"2021-12-21",2]
[null,null,null,null,null,null,null,null,null,null,null,null,null,null,null,null,null,"2021-01-22",5,{"$f":"+T88+1","v":"2021-02-26"},5,"2021-03-22",1,"2021-04-24",6,"2021-05-22",6,"2021-06-24",4,"2021-07-22",4,"2021-08-22",7,"2021-09-24",5,"2021-10-22",5,"2021-11-24",3,"2021-12-22",3]
[null,null,null,null,null,null,null,null,null,null,null,null,null,null,null,null,null,"2021-01-23",6,"2021-02-27",6,"2021-03-23",2,"2021-04-25",7,"2021-05-23",7,"2021-06-25",5,"2021-07-23",5,"2021-08-23",1,"2021-09-25",6,"2021-10-23",6,"2021-11-25",4,"2021-12-23",4]
[null,null,null,null,null,null,null,null,null,null,null,null,null,null,null,null,null,"2021-01-24",7,"2021-02-28",7,"2021-03-24",3,"2021-04-26",1,"2021-05-24",1,"2021-06-26",6,"2021-07-24",6,"2021-08-24",2,"2021-09-26",7,"2021-10-24",7,"2021-11-26",5,"2021-12-24",5]
[null,null,null,null,null,null,null,null,null,null,null,null,null,null,null,null,null,"2021-01-25",1,null,null,"2021-03-25",4,"2021-04-27",2,"2021-05-25",2,"2021-06-27",7,"2021-07-25",7,"2021-08-25",3,"2021-09-27",1,"2021-10-25",1,"2021-11-27",6,"2021-12-25",6]
[null,null,null,null,null,null,null,null,null,null,null,null,null,null,null,null,null,"2021-01-26",2,"Saturday",{"$f":"COUNTIF(U64:U91,6)","v":4},"2021-03-26",5,"2021-04-28",3,"2021-05-26",3,"2021-06-28",1,"2021-07-26",1,"2021-08-26",4,"2021-09-28",2,"2021-10-26",2,"2021-11-28",7,"2021-12-26",7]
[null,null,null,null,null,null,null,null,null,null,null,null,null,null,null,null,null,"2021-01-27",3,"Sunday",{"$f":"COUNTIF(U64:U91,7)","v":4},"2021-03-27",6,"2021-04-29",4,"2021-05-27",4,"2021-06-29",2,"2021-07-27",2,"2021-08-27",5,"2021-09-29",3,"2021-10-27",3,"2021-11-29",1,"2021-12-27",1]
[null,null,null,null,null,null,null,null,null,null,null,null,null,null,null,null,null,"2021-01-28",4,null,null,"2021-03-28",7,"2021-04-30",5,"2021-05-28",5,"2021-06-30",3,"2021-07-28",3,"2021-08-28",6,"2021-09-30",4,"2021-10-28",4,"2021-11-30",2,"2021-12-28",2]
[null,null,null,null,null,null,null,null,null,null,null,null,null,null,null,null,null,"2021-01-29",5,null,null,"2021-03-29",1,"Saturday",{"$f":"COUNTIF(Y66:Y95,6)","v":4},"2021-05-29",6,"Saturday",{"$f":"COUNTIF(AC66:AC95,6)","v":4},"2021-07-29",4,"2021-08-29",7,"Saturday",{"$f":"COUNTIF(AI66:AI95,6)","v":4},"2021-10-29",5,"Saturday",{"$f":"COUNTIF(AM66:AM95,6)","v":4},"2021-12-29",3]
[null,null,null,null,null,null,null,null,null,null,null,null,null,null,null,null,null,"2021-01-30",6,null,null,"2021-03-30",2,"Sunday",{"$f":"COUNTIF(Y66:Y95,7)","v":4},"2021-05-30",7,"Sunday",{"$f":"COUNTIF(AC66:AC95,7)","v":4},"2021-07-30",5,"2021-08-30",1,"Sunday",{"$f":"COUNTIF(AI66:AI95,7)","v":4},"2021-10-30",6,"Sunday",{"$f":"COUNTIF(AM66:AM95,7)","v":4},"2021-12-30",4]
[null,null,null,null,null,null,null,null,null,null,null,null,null,null,null,null,null,"2021-01-31",7,null,null,"2021-03-31",3,null,null,"2021-05-31",1,null,null,"2021-07-31",6,"2021-08-31",2,null,null,"2021-10-31",7,null,null,"2021-12-31",5]
[null,null,null,null,null,null,null,null,null,null,null,null,null,null,null,null,null,"Saturday",{"$f":"COUNTIF(S68:S98,6)","v":5},null,null,"Saturday",{"$f":"COUNTIF(W68:W98,6)","v":4},null,null,"Saturday",{"$f":"COUNTIF(AA68:AA98,6)","v":5},null,null,"Saturday",{"$f":"COUNTIF(AE68:AE98,6)","v":5},"Saturday",{"$f":"COUNTIF(AG68:AG98,6)","v":4},null,null,"Saturday",{"$f":"COUNTIF(AK68:AK98,6)","v":5},null,null,"Saturday",{"$f":"COUNTIF(AO68:AO98,6)","v":4}]
[null,null,null,null,null,null,null,null,null,null,null,null,null,null,null,null,null,"Sunday",{"$f":"COUNTIF(S68:S98,7)","v":5},null,null,"Sunday",{"$f":"COUNTIF(W68:W98,7)","v":4},null,null,"Sunday",{"$f":"COUNTIF(AA68:AA98,7)","v":5},null,null,"Sunday",{"$f":"COUNTIF(AE68:AE98,7)","v":4},"Sunday",{"$f":"COUNTIF(AG68:AG98,7)","v":5},null,null,"Sunday",{"$f":"COUNTIF(AK68:AK98,7)","v":5},null,null,"Sunday",{"$f":"COUNTIF(AO68:AO98,7)","v":4}]

{"sheet":"Bridge","index":3,"n_rows":100,"n_cols":41,"rows_kept":100,"cut":false,"hidden":false,"merged":[[1,10,2,12],[3,9,3,13],[4,9,4,13]]}
[null,"2019-04-11",null,null,null,null,null,null,null,null,null,null,null,null,null,null,null,"January",null,"February",null,"March",null,"April",null,"May",null,"June",null,"July",null,"August",null,"September",null,"October",null,"November",null,"December"]
[null,null,null,{"$f":"DATE(YEAR(B1),1,1)","v":"2019-01-01"},null,null,null,null,null,null,"Bridge & Traffic (B,T)",null,null,null,null,null,null,{"$f":"DATE(YEAR('Time Set'!$B$5),1,1)","v":"2019-01-01"},{"$f":"WEEKDAY(R2,2)","v":2},{"$f":"DATE(YEAR('Time Set'!$B$5),2,1)","v":"2019-02-01"},{"$f":"WEEKDAY(T2,2)","v":5},{"$f":"DATE(YEAR('Time Set'!$B$5),3,1)","v":"2019-03-01"},{"$f":"WEEKDAY(V2,2)","v":5},{"$f":"DATE(YEAR('Time Set'!$B$5),4,1)","v":"2019-04-01"},{"$f":"WEEKDAY(X2,2)","v":1},{"$f":"DATE(YEAR('Time Set'!$B$5),5,1)","v":"2019-05-01"},{"$f":"WEEKDAY(Z2,2)","v":3},{"$f":"DATE(YEAR('Time Set'!$B$5),6,1)","v":"2019-06-01"},{"$f":"WEEKDAY(AB2,2)","v":6},{"$f":"DATE(YEAR('Time Set'!$B$5),7,1)","v":"2019-07-01"},{"$f":"WEEKDAY(AD2,2)","v":1},{"$f":"DATE(YEAR('Time Set'!$B$5),8,1)","v":"2019-08-01"},{"$f":"WEEKDAY(AF2,2)","v":4},{"$f":"DATE(YEAR('Time Set'!$B$5),9,1)","v":"2019-09-01"},{"$f":"WEEKDAY(AH2,2)","v":7},{"$f":"DATE(YEAR('Time Set'!$B$5),10,1)","v":"2019-10-01"},{"$f":"WEEKDAY(AJ2,2)","v":2},{"$f":"DATE(YEAR('Time Set'!$B$5),11,1)","v":"2019-11-01"},{"$f":"WEEKDAY(AL2,2)","v":5},{"$f":"DATE(YEAR('Time Set'!$B$5),12,1)","v":"2019-12-01"},{"$f":"WEEKDAY(AN2,2)","v":7}]
[null,0,{"$f":"DATE(YEAR(B1),1,1)","v":"2019-01-01"},null,{"$f":"DATE(YEAR(D2),2,1)","v":"2019-02-01"},null,null,null,null,null,null,null,null,null,null,null,null,{"$f":"+R2+1","v":"2019-01-02"},{"$f":"WEEKDAY(R3,2)","v":3},{"$f":"+T2+1","v":"2019-02-02"},{"$f":"WEEKDAY(T3,2)","v":6},{"$f":"+V2+1","v":"2019-03-02"},{"$f":"WEEKDAY(V3,2)","v":6},{"$f":"+X2+1","v":"2019-04-02"},{"$f":"WEEKDAY(X3,2)","v":2},{"$f":"+Z2+1","v":"2019-05-02"},{"$f":"WEEKDAY(Z3,2)","v":4},{"$f":"+AB2+1","v":"2019-06-02"},{"$f":"WEEKDAY(AB3,2)","v":7},{"$f":"+AD2+1","v":"2019-07-02"},{"$f":"WEEKDAY(AD3,2)","v":2},{"$f":"+AF2+1","v":"2019-08-02"},{"$f":"WEEKDAY(AF3,2)","v":5},{"$f":"+AH2+1","v":"2019-09-02"},{"$f":"WEEKDAY(AH3,2)","v":1},{"$f":"+AJ2+1","v":"2019-10-02"},{"$f":"WEEKDAY(AJ3,2)","v":3},{"$f":"+AL2+1","v":"2019-11-02"},{"$f":"WEEKDAY(AL3,2)","v":6},{"$f":"+AN2+1","v":"2019-12-02"},{"$f":"WEEKDAY(AN3,2)","v":1}]
[null,0,{"$f":"DATE(YEAR(C3),MONTH(C3)+1,1)","v":"2019-02-01"},null,null,{"$f":"DATE(YEAR(D2),3,1)","v":"2019-03-01"},null,null,null,"Distribution of Working Days by",null,null,null,null,null,null,null,{"$f":"+R3+1","v":"2019-01-03"},4,{"$f":"+T3+1","v":"2019-02-03"},7,{"$f":"+V3+1","v":"2019-03-03"},7,{"$f":"+X3+1","v":"2019-04-03"},3,{"$f":"+Z3+1","v":"2019-05-03"},5,{"$f":"+AB3+1","v":"2019-06-03"},1,{"$f":"+AD3+1","v":"2019-07-03"},3,{"$f":"+AF3+1","v":"2019-08-03"},6,{"$f":"+AH3+1","v":"2019-09-03"},2,{"$f":"+AJ3+1","v":"2019-10-03"},4,{"$f":"+AL3+1","v":"2019-11-03"},7,{"$f":"+AN3+1","v":"2019-12-03"},2]
[null,0,{"$f":"DATE(YEAR(C4),MONTH(C4)+1,1)","v":"2019-03-01"},null,null,null,{"$f":"DATE(YEAR(D2),4,1)","v":"2019-04-01"},null,null,"Months, Cumulative Total per Month",null,null,null,null,null,null,null,"2019-01-04",5,"2019-02-04",1,"2019-03-04",1,"2019-04-04",4,"2019-05-04",6,"2019-06-04",2,"2019-07-04",4,"2019-08-04",7,"2019-09-04",3,"2019-10-04",5,"2019-11-04",1,"2019-12-04",3]
[14,{"$f":"+IF('Time Set'!$B$6=5,A6,IF('Time Set'!$B$6=6,A6+Y32, IF('Time Set'!$B$6=7, A6+Y32+Y33, 0)))","v":14},"2019-04-01",{"$f":"+D5+$B6","v":14},{"$f":"+E5+$B6","v":14},{"$f":"+F5+$B6","v":14},{"$f":"+B6","v":14},{"$f":"DATE(YEAR(D2),5,1)","v":"2019-05-01"},null,null,null,null,null,null,null,null,null,"2019-01-05",6,"2019-02-05",2,"2019-03-05",2,"2019-04-05",5,"2019-05-05",7,"2019-06-05",3,"2019-07-05",5,"2019-08-05",1,"2019-09-05",4,"2019-10-05",6,"2019-11-05",2,"2019-12-05",4]
[17,{"$f":"+IF('Time Set'!$B$6=5,A7,IF('Time Set'!$B$6=6,A7+AA33, IF('Time Set'!$B$6=7, A7+AA33+AA34, 0)))","v":17},"2019-05-01",{"$f":"+D6+$B7","v":31},{"$f":"+E6+$B7","v":31},31,31,{"$f":"+B7","v":17},{"$f":"DATE(YEAR(D2),6,1)","v":"2019-06-01"},null,null,null,null,null,null,null,null,"2019-01-06",7,"2019-02-06",3,"2019-03-06",3,"2019-04-06",6,"2019-05-06",1,"2019-06-06",4,"2019-07-06",6,"2019-08-06",2,"2019-09-06",5,"2019-10-06",7,"2019-11-06",3,"2019-12-06",5]
[18,{"$f":"+IF('Time Set'!$B$6=5,A8,IF('Time Set'!$B$6=6,A8+AC32, IF('Time Set'!$B$6=7, A8+AC32+AC33, 0)))","v":18},"2019-06-01",49,49,49,49,{"$f":"+H7+$B8","v":35},{"$f":"+B8","v":18},{"$f":"DATE(YEAR(D2),7,1)","v":"2019-07-01"},null,null,null,null,null,null,null,"2019-01-07",1,"2019-02-07",4,"2019-03-07",4,"2019-04-07",7,"2019-05-07",2,"2019-06-07",5,"2019-07-07",7,"2019-08-07",3,"2019-09-07",6,"2019-10-07",1,"2019-11-07",4,"2019-12-07",6]
[19,{"$f":"+IF('Time Set'!$B$6=5,A9,IF('Time Set'!$B$6=6,A9+AE33, IF('Time Set'!$B$6=7, A9+AE33+AE34, 0)))","v":19},"2019-07-01",68,{"$f":"+E8+$B9","v":68},68,68,54,37,{"$f":"+B9","v":19},{"$f":"DATE(YEAR(D2),8,1)","v":"2019-08-01"},null,null,null,null,null,null,"2019-01-08",2,"2019-02-08",5,"2019-03-08",5,"2019-04-08",1,"2019-05-08",3,"2019-06-08",6,"2019-07-08",1,"2019-08-08",4,"2019-09-08",7,"2019-10-08",2,"2019-11-08",5,"2019-12-08",7]
[19,{"$f":"+IF('Time Set'!$B$6=5,A10,IF('Time Set'!$B$6=6,A10+AG33, IF('Time Set'!$B$6=7, A10+AG33+AG34, 0)))","v":19},"2019-08-01",87,87,87,87,73,56,38,{"$f":"+B10","v":19},{"$f":"DATE(YEAR(D2),9,1)","v":"2019-09-01"},null,null,null,null,null,"2019-01-09",3,"2019-02-09",6,"2019-03-09",6,"2019-04-09",2,"2019-05-09",4,"2019-06-09",7,"2019-07-09",2,"2019-08-09",5,"2019-09-09",1,"2019-10-09",3,"2019-11-09",6,"2019-12-09",1]
[16,{"$f":"+IF('Time Set'!$B$6=5,A11,IF('Time Set'!$B$6=6,A11+AI32, IF('Time Set'!$B$6=7, A11+AI32+AI33, 0)))","v":16},"2019-09-01",103,103,103,103,89,72,54,35,{"$f":"+B11","v":16},{"$f":"DATE(YEAR(D2),10,1)","v":"2019-10-01"},null,null,null,null,"2019-01-10",4,"2019-02-10",7,"2019-03-10",7,"2019-04-10",3,"2019-05-10",5,"2019-06-10",1,"2019-07-10",3,"2019-08-10",6,"2019-09-10",2,"2019-10-10",4,"2019-11-10",7,"2019-12-10",2]
[17,{"$f":"+IF('Time Set'!$B$6=5,A12,IF('Time Set'!$B$6=6,A12+AK33, IF('Time Set'!$B$6=7, A12+AK33+AK34,0)))","v":17},"2019-10-01",120,120,120,120,106,89,71,52,33,{"$f":"+B12","v":17},{"$f":"DATE(YEAR(D2),11,1)","v":"2019-11-01"},null,null,null,"2019-01-11",5,"2019-02-11",1,"2019-03-11",1,"2019-04-11",4,"2019-05-11",6,"2019-06-11",2,"2019-07-11",4,"2019-08-11",7,"2019-09-11",3,"2019-10-11",5,"2019-11-11",1,"2019-12-11",3]
[15,{"$f":"+IF('Time Set'!$B$6=5,A13,IF('Time Set'!$B$6=6,A13+AM32, IF('Time Set'!$B$6=7, A13+AM32+AM33, 0)))","v":15},"2019-11-01",135,135,135,135,121,104,86,67,48,32,{"$f":"+B13","v":15},{"$f":"DATE(YEAR(D2),12,1)","v":"2019-12-01"},null,null,"2019-01-12",6,"2019-02-12",2,"2019-03-12",2,"2019-04-12",5,"2019-05-12",7,"2019-06-12",3,"2019-07-12",5,"2019-08-12",1,"2019-09-12",4,"2019-10-12",6,"2019-11-12",2,"2019-12-12",4]
[null,0,"2019-12-01",135,{"$f":"+E13+$B14","v":135},135,135,121,104,86,67,48,32,{"$f":"+N13+B14","v":15},0,null,null,"2019-01-13",7,"2019-02-13",3,"2019-03-13",3,"2019-04-13",6,"2019-05-13",1,"2019-06-13",4,"2019-07-13",6,"2019-08-13",2,"2019-09-13",5,"2019-10-13",7,"2019-11-13",3,"2019-12-13",5]
[null,0,"2020-01-01",135,135,135,135,121,104,86,67,48,32,{"$f":"+N14+B15","v":15},0,null,null,"2019-01-14",1,"2019-02-14",4,"2019-03-14",4,"2019-04-14",7,"2019-05-14",2,"2019-06-14",5,"2019-07-14",7,"2019-08-14",3,"2019-09-14",6,"2019-10-14",1,"2019-11-14",4,"2019-12-14",6]
[null,{"$f":"+B4","v":0},"2020-02-01",135,135,135,135,121,104,86,67,48,32,{"$f":"+N15+B16","v":15},0,null,null,"2019-01-15",2,"2019-02-15",5,"2019-03-15",5,"2019-04-15",1,"2019-05-15",3,"2019-06-15",6,"2019-07-15",1,"2019-08-15",4,"2019-09-15",7,"2019-10-15",2,"2019-11-15",5,"2019-12-15",7]
[null,{"$f":"+B5","v":0},"2020-03-01",135,135,135,135,121,104,86,67,48,32,{"$f":"+N16+B17","v":15},0,null,null,"2019-01-16",3,"2019-02-16",6,"2019-03-16",6,"2019-04-16",2,"2019-05-16",4,"2019-06-16",7,"2019-07-16",2,"2019-08-16",5,"2019-09-16",1,"2019-10-16",3,"2019-11-16",6,"2019-12-16",1]
[14,{"$f":"+IF('Time Set'!$B$6=5,A18,IF('Time Set'!$B$6=6,A18+Y64, IF('Time Set'!$B$6=7, A18+Y64+Y65, 0)))","v":14},"2020-04-01",149,149,149,149,135,118,100,81,62,46,{"$f":"+N17+B18","v":29},{"$f":"+B18","v":14},null,null,"2019-01-17",4,"2019-02-17",7,"2019-03-17",7,"2019-04-17",3,"2019-05-17",5,"2019-06-17",1,"2019-07-17",3,"2019-08-17",6,"2019-09-17",2,"2019-10-17",4,"2019-11-17",7,"2019-12-17",2]
[17,{"$f":"+IF('Time Set'!$B$6=5,A19,IF('Time Set'!$B$6=6,A19+AA66, IF('Time Set'!$B$6=7, A19+AA66+AA67, 0)))","v":17},"2020-05-01",166,{"$f":"+E18+$B19","v":166},166,166,152,135,117,98,79,63,46,31,null,null,"2019-01-18",5,"2019-02-18",1,"2019-03-18",1,"2019-04-18",4,"2019-05-18",6,"2019-06-18",2,"2019-07-18",4,"2019-08-18",7,"2019-09-18",3,"2019-10-18",5,"2019-11-18",1,"2019-12-18",3]
[18,{"$f":"+IF('Time Set'!$B$6=5,A20,IF('Time Set'!$B$6=6,A20+AC64, IF('Time Set'!$B$6=7, A20+AC64+AC65, 0)))","v":18},"2020-06-01",184,184,184,184,170,153,135,116,97,81,64,49,null,null,"2019-01-19",6,"2019-02-19",2,"2019-03-19",2,"2019-04-19",5,"2019-05-19",7,"2019-06-19",3,"2019-07-19",5,"2019-08-19",1,"2019-09-19",4,"2019-10-19",6,"2019-11-19",2,"2019-12-19",4]
[19,{"$f":"+IF('Time Set'!$B$6=5,A21,IF('Time Set'!$B$6=6,A21+AE66, IF('Time Set'!$B$6=7, A21+AE66+AE67, 0)))","v":19},"2020-07-01",203,203,203,203,189,172,154,135,116,100,83,68,null,null,"2019-01-20",7,"2019-02-20",3,"2019-03-20",3,"2019-04-20",6,"2019-05-20",1,"2019-06-20",4,"2019-07-20",6,"2019-08-20",2,"2019-09-20",5,"2019-10-20",7,"2019-11-20",3,"2019-12-20",5]
[19,{"$f":"+IF('Time Set'!$B$6=5,A22,IF('Time Set'!$B$6=6,A22+AG66, IF('Time Set'!$B$6=7, A22+AG66+AG67, 0)))","v":19},"2020-08-01",222,222,222,222,208,191,173,154,135,119,102,87,null,null,"2019-01-21",1,"2019-02-21",4,"2019-03-21",4,"2019-04-21",7,"2019-05-21",2,"2019-06-21",5,"2019-07-21",7,"2019-08-21",3,"2019-09-21",6,"2019-10-21",1,"2019-11-21",4,"2019-12-21",6]
[16,{"$f":"+IF('Time Set'!$B$6=5,A23,IF('Time Set'!$B$6=6,A23+AI64, IF('Time Set'!$B$6=7, A23+AI64+AI65, 0)))","v":16},"2020-09-01",238,238,238,238,224,207,189,170,151,135,118,103,null,null,"2019-01-22",2,"2019-02-22",5,"2019-03-22",5,"2019-04-22",1,"2019-05-22",3,"2019-06-22",6,"2019-07-22",1,"2019-08-22",4,"2019-09-22",7,"2019-10-22",2,"2019-11-22",5,"2019-12-22",7]
[17,{"$f":"+IF('Time Set'!$B$6=5,A24,IF('Time Set'!$B$6=6,A24+AK66, IF('Time Set'!$B$6=7, A24+AK66+AK67,0)))","v":17},"2020-10-01",255,255,255,255,241,224,206,187,168,152,135,120,null,null,{"$f":"+R23+1","v":"2019-01-23"},3,"2019-02-23",6,"2019-03-23",6,"2019-04-23",2,"2019-05-23",4,"2019-06-23",7,"2019-07-23",2,"2019-08-23",5,"2019-09-23",1,"2019-10-23",3,"2019-11-23",6,"2019-12-23",1]
[15,{"$f":"+IF('Time Set'!$B$6=5,A25,IF('Time Set'!$B$6=6,A25+AM64, IF('Time Set'!$B$6=7, A25+AM64+AM65, 0)))","v":15},"2020-11-01",270,270,270,270,256,239,221,202,183,167,150,135,null,null,"2019-01-24",4,"2019-02-24",7,"2019-03-24",7,"2019-04-24",3,"2019-05-24",5,"2019-06-24",1,"2019-07-24",3,"2019-08-24",6,"2019-09-24",2,"2019-10-24",4,"2019-11-24",7,"2019-12-24",2]
[null,{"$f":"+B14","v":0},"2020-12-01",270,{"$f":"+E25+$B26","v":270},270,270,256,239,221,202,183,167,150,135,null,null,"2019-01-25",5,"2019-02-25",1,"2019-03-25",1,"2019-04-25",4,"2019-05-25",6,"2019-06-25",2,"2019-07-25",4,"2019-08-25",7,"2019-09-25",3,"2019-10-25",5,"2019-11-25",1,"2019-12-25",3]
[null,{"$f":"+B15","v":0},"2021-01-01",270,270,270,270,256,239,221,202,183,167,150,135,null,null,"2019-01-26",6,"2019-02-26",2,"2019-03-26",2,"2019-04-26",5,"2019-05-26",7,"2019-06-26",3,"2019-07-26",5,"2019-08-26",1,"2019-09-26",4,"2019-10-26",6,"2019-11-26",2,"2019-12-26",4]
[null,{"$f":"+B16","v":0},"2021-02-01",270,270,270,270,256,239,221,202,183,167,150,135,null,null,"2019-01-27",7,"2019-02-27",3,"2019-03-27",3,"2019-04-27",6,"2019-05-27",1,"2019-06-27",4,"2019-07-27",6,"2019-08-27",2,"2019-09-27",5,"2019-10-27",7,"2019-11-27",3,"2019-12-27",5]
[null,{"$f":"+B17","v":0},"2021-03-01",270,270,270,270,256,239,221,202,183,167,150,135,null,null,"2019-01-28",1,"2019-02-28",4,"2019-03-28",4,"2019-04-28",7,"2019-05-28",2,"2019-06-28",5,"2019-07-28",7,"2019-08-28",3,"2019-09-28",6,"2019-10-28",1,"2019-11-28",4,"2019-12-28",6]
[14,{"$f":"+IF('Time Set'!$B$6=5,A30,IF('Time Set'!$B$6=6,A30+Y96, IF('Time Set'!$B$6=7, A30+Y96+Y97, 0)))","v":14},"2021-04-01",284,284,284,284,270,253,235,216,197,181,164,149,null,null,{"$f":"+R29+1","v":"2019-01-29"},2,null,null,"2019-03-29",5,"2019-04-29",1,"2019-05-29",3,"2019-06-29",6,"2019-07-29",1,"2019-08-29",4,"2019-09-29",7,"2019-10-29",2,"2019-11-29",5,"2019-12-29",7]
[17,{"$f":"+IF('Time Set'!$B$6=5,A31,IF('Time Set'!$B$6=6,A31+Y99, IF('Time Set'!$B$6=7, A31+Y99+Y100, 0)))","v":17},"2021-05-01",{"$f":"+D30+$B31","v":301},301,301,301,287,270,252,233,214,198,181,166,null,null,{"$f":"+R30+1","v":"2019-01-30"},3,"Saturday",{"$f":"COUNTIF(U2:U29,6)","v":4},"2019-03-30",6,"2019-04-30",2,"2019-05-30",4,"2019-06-30",7,"2019-07-30",2,"2019-08-30",5,"2019-09-30",1,"2019-10-30",3,"2019-11-30",6,"2019-12-30",1]
[18,{"$f":"+IF('Time Set'!$B$6=5,A32,IF('Time Set'!$B$6=6,A32+Y96, IF('Time Set'!$B$6=7, A32+Y96+Y97, 0)))","v":18},"2021-06-01",319,319,319,319,305,288,270,251,232,216,199,184,null,null,{"$f":"+R31+1","v":"2019-01-31"},4,"Sunday",{"$f":"COUNTIF(U2:U29,7)","v":4},"2019-03-31",7,"Saturday",{"$f":"COUNTIF(Y2:Y31,6)","v":4},"2019-05-31",5,"Saturday",{"$f":"COUNTIF(AC2:AC31,6)","v":5},"2019-07-31",3,"2019-08-31",6,"Saturday",{"$f":"COUNTIF(AI2:AI31,6)","v":4},"2019-10-31",4,"Saturday",{"$f":"COUNTIF(AM2:AM31,6)","v":5},"2019-12-31",2]
[19,{"$f":"+IF('Time Set'!$B$6=5,A33,IF('Time Set'!$B$6=6,A33+Y99, IF('Time Set'!$B$6=7, A33+Y99+Y100, 0)))","v":19},"2021-07-01",338,338,338,338,324,307,289,270,251,235,218,203,null,null,"Saturday",{"$f":"COUNTIF(S2:S32,6)","v":4},{"$f":"DATE(YEAR('Time Set'!$B$5)+1,2,1)","v":"2020-02-01"},{"$f":"WEEKDAY(T33,2)","v":6},"Saturday",{"$f":"COUNTIF(W2:W32,6)","v":5},"Sunday",{"$f":"COUNTIF(Y2:Y31,7)","v":4},"Saturday",{"$f":"COUNTIF(AA2:AA32,6)","v":4},"Sunday",{"$f":"COUNTIF(AC2:AC31,7)","v":5},"Saturday",{"$f":"COUNTIF(AE2:AE32,6)","v":4},"Saturday",{"$f":"COUNTIF(AG2:AG32,6)","v":5},"Sunday",{"$f":"COUNTIF(AI2:AI31,7)","v":5},"Saturday",{"$f":"COUNTIF(AK2:AK32,6)","v":4},"Sunday",{"$f":"COUNTIF(AM2:AM31,7)","v":4},"Saturday",{"$f":"COUNTIF(AO2:AO32,6)","v":4}]
[19,{"$f":"+IF('Time Set'!$B$6=5,A34,IF('Time Set'!$B$6=6,A34+Y199, IF('Time Set'!$B$6=7, A34+Y99+Y100, 0)))","v":19},"2021-08-01",357,357,357,357,343,326,308,289,270,254,237,222,null,null,"Sunday",{"$f":"COUNTIF(S2:S32,7)","v":4},{"$f":"+T33+1","v":"2020-02-02"},7,"Sunday",{"$f":"COUNTIF(W2:W32,7)","v":5},{"$f":"DATE(YEAR('Time Set'!$B$5)+1,4,1)","v":"2020-04-01"},{"$f":"WEEKDAY(X34,2)","v":3},"Sunday",{"$f":"COUNTIF(AA2:AA32,7)","v":4},{"$f":"DATE(YEAR('Time Set'!$B$5)+1,6,1)","v":"2020-06-01"},{"$f":"WEEKDAY(AB34,2)","v":1},"Sunday",{"$f":"COUNTIF(AE2:AE32,7)","v":4},"Sunday",{"$f":"COUNTIF(AG2:AG32,7)","v":4},{"$f":"DATE(YEAR('Time Set'!$B$5)+1,9,1)","v":"2020-09-01"},{"$f":"WEEKDAY(AH34,2)","v":2},"Sunday",{"$f":"COUNTIF(AK2:AK32,7)","v":4},{"$f":"DATE(YEAR('Time Set'!$B$5)+1,11,1)","v":"2020-11-01"},{"$f":"WEEKDAY(AL34,2)","v":7},"Sunday",{"$f":"COUNTIF(AO2:AO32,7)","v":5}]
[16,{"$f":"+IF('Time Set'!$B$6=5,A35,IF('Time Set'!$B$6=6,A35+Y96, IF('Time Set'!$B$6=7, A35+Y96+Y97, 0)))","v":16},"2021-09-01",373,373,373,373,359,342,324,305,286,270,253,238,null,null,{"$f":"DATE(YEAR('Time Set'!B5)+1,1,1)","v":"2020-01-01"},{"$f":"WEEKDAY(R35,2)","v":3},{"$f":"+T34+1","v":"2020-02-03"},1,{"$f":"DATE(YEAR('Time Set'!$B$5)+1,3,1)","v":"2020-03-01"},{"$f":"WEEKDAY(V35,2)","v":7},{"$f":"+X34+1","v":"2020-04-02"},{"$f":"WEEKDAY(X35,2)","v":4},{"$f":"DATE(YEAR('Time Set'!$B$5)+1,5,1)","v":"2020-05-01"},{"$f":"WEEKDAY(Z35,2)","v":5},{"$f":"+AB34+1","v":"2020-06-02"},{"$f":"WEEKDAY(AB35,2)","v":2},{"$f":"DATE(YEAR('Time Set'!$B$5)+1,7,1)","v":"2020-07-01"},{"$f":"WEEKDAY(AD35,2)","v":3},{"$f":"DATE(YEAR('Time Set'!$B$5)+1,8,1)","v":"2020-08-01"},{"$f":"WEEKDAY(AF35,2)","v":6},{"$f":"+AH34+1","v":"2020-09-02"},{"$f":"WEEKDAY(AH35,2)","v":3},{"$f":"DATE(YEAR('Time Set'!$B$5)+1,10,1)","v":"2020-10-01"},{"$f":"WEEKDAY(AJ35,2)","v":4},{"$f":"+AL34+1","v":"2020-11-02"},{"$f":"WEEKDAY(AL35,2)","v":1},{"$f":"DATE(YEAR('Time Set'!$B$5)+1,12,1)","v":"2020-12-01"},{"$f":"WEEKDAY(AN35,2)","v":2}]
[17,{"$f":"+IF('Time Set'!$B$6=5,A36,IF('Time Set'!$B$6=6,A36+Y99, IF('Time Set'!$B$6=7, A36+Y99+Y100, 0)))","v":17},"2021-10-01",{"$f":"+D35+$B36","v":390},390,390,390,376,359,341,322,303,287,270,255,null,null,{"$f":"+R35+1","v":"2020-01-02"},{"$f":"WEEKDAY(R36,2)","v":4},"2020-02-04",2,{"$f":"+V35+1","v":"2020-03-02"},{"$f":"WEEKDAY(V36,2)","v":1},{"$f":"+X35+1","v":"2020-04-03"},5,{"$f":"+Z35+1","v":"2020-05-02"},{"$f":"WEEKDAY(Z36,2)","v":6},{"$f":"+AB35+1","v":"2020-06-03"},3,{"$f":"+AD35+1","v":"2020-07-02"},{"$f":"WEEKDAY(AD36,2)","v":4},{"$f":"+AF35+1","v":"2020-08-02"},{"$f":"WEEKDAY(AF36,2)","v":7},{"$f":"+AH35+1","v":"2020-09-03"},4,{"$f":"+AJ35+1","v":"2020-10-02"},{"$f":"WEEKDAY(AJ36,2)","v":5},{"$f":"+AL35+1","v":"2020-11-03"},2,{"$f":"+AN35+1","v":"2020-12-02"},{"$f":"WEEKDAY(AN36,2)","v":3}]
[15,{"$f":"+IF('Time Set'!$B$6=5,A37,IF('Time Set'!$B$6=6,A37+Y96, IF('Time Set'!$B$6=7, A37+Y96+Y97, 0)))","v":15},"2021-11-01",405,405,405,405,391,374,356,337,318,302,285,270,null,null,{"$f":"+R36+1","v":"2020-01-03"},{"$f":"WEEKDAY(R37,2)","v":5},"2020-02-05",3,{"$f":"+V36+1","v":"2020-03-03"},2,"2020-04-04",6,{"$f":"+Z36+1","v":"2020-05-03"},7,"2020-06-04",4,{"$f":"+AD36+1","v":"2020-07-03"},5,{"$f":"+AF36+1","v":"2020-08-03"},1,"2020-09-04",5,{"$f":"+AJ36+1","v":"2020-10-03"},6,"2020-11-04",3,{"$f":"+AN36+1","v":"2020-12-03"},4]
[null,{"$f":"+B26","v":0},"2021-12-01",null,null,null,null,null,null,null,null,null,null,null,null,null,null,"2020-01-04",6,"2020-02-06",4,"2020-03-04",3,"2020-04-05",7,"2020-05-04",1,"2020-06-05",5,"2020-07-04",6,"2020-08-04",2,"2020-09-05",6,"2020-10-04",7,"2020-11-05",4,"2020-12-04",5]
[null,null,null,null,null,null,null,null,null,null,null,null,null,null,null,null,null,"2020-01-05",7,"2020-02-07",5,"2020-03-05",4,"2020-04-06",1,"2020-05-05",2,"2020-06-06",6,"2020-07-05",7,"2020-08-05",3,"2020-09-06",7,"2020-10-05",1,"2020-11-06",5,"2020-12-05",6]
[null,null,null,null,null,null,null,null,null,null,null,null,null,null,null,null,null,"2020-01-06",1,"2020-02-08",6,"2020-03-06",5,"2020-04-07",2,"2020-05-06",3,"2020-06-07",7,"2020-07-06",1,"2020-08-06",4,"2020-09-07",1,"2020-10-06",2,"2020-11-07",6,"2020-12-06",7]
[null,null,null,null,null,null,null,null,null,null,null,null,null,null,null,null,null,"2020-01-07",2,"2020-02-09",7,"2020-03-07",6,"2020-04-08",3,"2020-05-07",4,"2020-06-08",1,"2020-07-07",2,"2020-08-07",5,"2020-09-08",2,"2020-10-07",3,"2020-11-08",7,"2020-12-07",1]
[null,null,null,null,null,null,null,null,null,null,null,null,null,null,null,null,null,"2020-01-08",3,"2020-02-10",1,"2020-03-08",7,"2020-04-09",4,"2020-05-08",5,"2020-06-09",2,"2020-07-08",3,"2020-08-08",6,"2020-09-09",3,"2020-10-08",4,"2020-11-09",1,"2020-12-08",2]
[null,null,null,null,null,null,null,null,null,null,null,null,null,null,null,null,null,"2020-01-09",4,"2020-02-11",2,"2020-03-09",1,"2020-04-10",5,"2020-05-09",6,"2020-06-10",3,"2020-07-09",4,"2020-08-09",7,"2020-09-10",4,"2020-10-09",5,"2020-11-10",2,"2020-12-09",3]
[null,null,null,null,null,null,null,null,null,null,null,null,null,null,null,null,null,"2020-01-10",5,"2020-02-12",3,"2020-03-10",2,"2020-04-11",6,"2020-05-10",7,"2020-06-11",4,"2020-07-10",5,"2020-08-10",1,"2020-09-11",5,"2020-10-10",6,"2020-11-11",3,"2020-12-10",4]
[null,null,null,null,null,null,null,null,null,null,null,null,null,null,null,null,null,"2020-01-11",6,"2020-02-13",4,"2020-03-11",3,"2020-04-12",7,"2020-05-11",1,"2020-06-12",5,"2020-07-11",6,"2020-08-11",2,"2020-09-12",6,"2020-10-11",7,"2020-11-12",4,"2020-12-11",5]
[null,null,null,null,null,null,null,null,null,null,null,null,null,null,null,null,null,"2020-01-12",7,"2020-02-14",5,"2020-03-12",4,"2020-04-13",1,"2020-05-12",2,"2020-06-13",6,"2020-07-12",7,"2020-08-12",3,"2020-09-13",7,"2020-10-12",1,"2020-11-13",5,"2020-12-12",6]
[null,null,null,null,null,null,null,null,null,null,null,null,null,null,null,null,null,"2020-01-13",1,"2020-02-15",6,"2020-03-13",5,"2020-04-14",2,"2020-05-13",3,"2020-06-14",7,"2020-07-13",1,"2020-08-13",4,"2020-09-14",1,"2020-10-13",2,"2020-11-14",6,"2020-12-13",7]
[null,null,null,null,null,null,null,null,null,null,null,null,null,null,null,null,null,"2020-01-14",2,"2020-02-16",7,"2020-03-14",6,"2020-04-15",3,"2020-05-14",4,"2020-06-15",1,"2020-07-14",2,"2020-08-14",5,"2020-09-15",2,"2020-10-14",3,"2020-11-15",7,"2020-12-14",1]
[null,null,null,null,null,null,null,null,null,null,null,null,null,null,null,null,null,"2020-01-15",3,"2020-02-17",1,"2020-03-15",7,"2020-04-16",4,"2020-05-15",5,"2020-06-16",2,"2020-07-15",3,"2020-08-15",6,"2020-09-16",3,"2020-10-15",4,"2020-11-16",1,"2020-12-15",2]
[null,null,null,null,null,null,null,null,null,null,null,null,null,null,null,null,null,"2020-01-16",4,"2020-02-18",2,"2020-03-16",1,"2020-04-17",5,"2020-05-16",6,"2020-06-17",3,"2020-07-16",4,"2020-08-16",7,"2020-09-17",4,"2020-10-16",5,"2020-11-17",2,"2020-12-16",3]
[null,null,null,null,null,null,null,null,null,null,null,null,null,null,null,null,null,"2020-01-17",5,"2020-02-19",3,"2020-03-17",2,"2020-04-18",6,"2020-05-17",7,"2020-06-18",4,"2020-07-17",5,"2020-08-17",1,"2020-09-18",5,"2020-10-17",6,"2020-11-18",3,"2020-12-17",4]
[null,null,null,null,null,null,null,null,null,null,null,null,null,null,null,null,null,"2020-01-18",6,"2020-02-20",4,"2020-03-18",3,"2020-04-19",7,"2020-05-18",1,"2020-06-19",5,"2020-07-18",6,"2020-08-18",2,"2020-09-19",6,"2020-10-18",7,"2020-11-19",4,"2020-12-18",5]
[null,null,null,null,null,null,null,null,null,null,null,null,null,null,null,null,null,"2020-01-19",7,"2020-02-21",5,"2020-03-19",4,"2020-04-20",1,"2020-05-19",2,"2020-06-20",6,"2020-07-19",7,"2020-08-19",3,"2020-09-20",7,"2020-10-19",1,"2020-11-20",5,"2020-12-19",6]
[null,null,null,null,null,null,null,null,null,null,null,null,null,null,null,null,null,"2020-01-20",1,"2020-02-22",6,"2020-03-20",5,"2020-04-21",2,"2020-05-20",3,"2020-06-21",7,"2020-07-20",1,"2020-08-20",4,"2020-09-21",1,"2020-10-20",2,"2020-11-21",6,"2020-12-20",7]
[null,null,null,null,null,null,null,null,null,null,null,null,null,null,null,null,null,"2020-01-21",2,"2020-02-23",7,"2020-03-21",6,"2020-04-22",3,"2020-05-21",4,"2020-06-22",1,"2020-07-21",2,"2020-08-21",5,"2020-09-22",2,"2020-10-21",3,"2020-11-22",7,"2020-12-21",1]
[null,null,null,null,null,null,null,null,null,null,null,null,null,null,null,null,null,"2020-01-22",3,"2020-02-24",1,"2020-03-22",7,"2020-04-23",4,"2020-05-22",5,"2020-06-23",2,"2020-07-22",3,"2020-08-22",6,"2020-09-23",3,"2020-10-22",4,"2020-11-23",1,"2020-12-22",2]
[null,null,null,null,null,null,null,null,null,null,null,null,null,null,null,null,null,"2020-01-23",4,"2020-02-25",2,"2020-03-23",1,"2020-04-24",5,"2020-05-23",6,"2020-06-24",3,"2020-07-23",4,"2020-08-23",7,"2020-09-24",4,"2020-10-23",5,"2020-11-24",2,"2020-12-23",3]
[null,null,null,null,null,null,null,null,null,null,null,null,null,null,null,null,null,"2020-01-24",5,"2020-02-26",3,"2020-03-24",2,"2020-04-25",6,"2020-05-24",7,"2020-06-25",4,"2020-07-24",5,"2020-08-24",1,"2020-09-25",5,"2020-10-24",6,"2020-11-25",3,"2020-12-24",4]
[null,null,null,null,null,null,null,null,null,null,null,null,null,null,null,null,null,"2020-01-25",6,"2020-02-27",4,"2020-03-25",3,"2020-04-26",7,"2020-05-25",1,"2020-06-26",5,"2020-07-25",6,"2020-08-25",2,"2020-09-26",6,"2020-10-25",7,"2020-11-26",4,"2020-12-25",5]
[null,null,null,null,null,null,null,null,null,null,null,null,null,null,null,null,null,"2020-01-26",7,"2020-02-28",5,"2020-03-26",4,"2020-04-27",1,"2020-05-26",2,"2020-06-27",6,"2020-07-26",7,"2020-08-26",3,"2020-09-27",7,"2020-10-26",1,"2020-11-27",5,"2020-12-26",6]
[null,null,null,null,null,null,null,null,null,null,null,null,null,null,null,null,null,"2020-01-27",1,"2020-02-29",6,"2020-03-27",5,"2020-04-28",2,"2020-05-27",3,"2020-06-28",7,"2020-07-27",1,"2020-08-27",4,"2020-09-28",1,"2020-10-27",2,"2020-11-28",6,"2020-12-27",7]
[null,null,null,null,null,null,null,null,null,null,null,null,null,null,null,null,null,"2020-01-28",2,"Saturday",{"$f":"COUNTIF(U33:U60,6)","v":4},"2020-03-28",6,"2020-04-29",3,"2020-05-28",4,"2020-06-29",1,"2020-07-28",2,"2020-08-28",5,"2020-09-29",2,"2020-10-28",3,"2020-11-29",7,"2020-12-28",1]
[null,null,null,null,null,null,null,null,null,null,null,null,null,null,null,null,null,"2020-01-29",3,"Sunday",{"$f":"COUNTIF(U33:U60,7)","v":4},"2020-03-29",7,"2020-04-30",4,"2020-05-29",5,"2020-06-30",2,"2020-07-29",3,"2020-08-29",6,"2020-09-30",3,"2020-10-29",4,"2020-11-30",1,"2020-12-29",2]
[null,null,null,null,null,null,null,null,null,null,null,null,null,null,null,null,null,"2020-01-30",4,{"$f":"DATE(YEAR('Time Set'!$B$5)+2,2,1)","v":"2021-02-01"},1,"2020-03-30",1,"Saturday",{"$f":"COUNTIF(Y34:Y63,6)","v":4},"2020-05-30",6,"Saturday",{"$f":"COUNTIF(AC34:AC63,6)","v":4},"2020-07-30",4,"2020-08-30",7,"Saturday",{"$f":"COUNTIF(AI34:AI63,6)","v":4},"2020-10-30",5,"Saturday",{"$f":"COUNTIF(AM34:AM63,6)","v":4},"2020-12-30",3]
[null,null,null,null,null,null,null,null,null,null,null,null,null,null,null,null,null,"2020-01-31",5,{"$f":"+T64+1","v":"2021-02-02"},2,"2020-03-31",2,"Sunday",{"$f":"COUNTIF(Y34:Y63,7)","v":4},"2020-05-31",7,"Sunday",{"$f":"COUNTIF(AC34:AC63,7)","v":4},"2020-07-31",5,"2020-08-31",1,"Sunday",{"$f":"COUNTIF(AI34:AI63,7)","v":4},"2020-10-31",6,"Sunday",{"$f":"COUNTIF(AM34:AM63,7)","v":5},"2020-12-31",4]
[null,null,null,null,null,null,null,null,null,null,null,null,null,null,null,null,null,"Saturday",{"$f":"COUNTIF(S35:S65,6)","v":4},{"$f":"+T65+1","v":"2021-02-03"},3,"Saturday",{"$f":"COUNTIF(W35:W65,6)","v":4},{"$f":"DATE(YEAR('Time Set'!$B$5)+2,4,1)","v":"2021-04-01"},{"$f":"WEEKDAY(X66,2)","v":4},"Saturday",{"$f":"COUNTIF(AA35:AA65,6)","v":5},{"$f":"DATE(YEAR('Time Set'!$B$5)+2,6,1)","v":"2021-06-01"},{"$f":"WEEKDAY(AB66,2)","v":2},"Saturday",{"$f":"COUNTIF(AE35:AE65,6)","v":4},"Saturday",{"$f":"COUNTIF(AG35:AG65,6)","v":5},{"$f":"DATE(YEAR('Time Set'!$B$5)+2,9,1)","v":"2021-09-01"},{"$f":"WEEKDAY(AH66,2)","v":3},"Saturday",{"$f":"COUNTIF(AK35:AK65,6)","v":5},{"$f":"DATE(YEAR('Time Set'!$B$5)+2,11,1)","v":"2021-11-01"},{"$f":"WEEKDAY(AL66,2)","v":1},"Saturday",{"$f":"COUNTIF(AO35:AO65,6)","v":4}]
[null,null,null,null,null,null,null,null,null,null,null,null,null,null,null,null,null,"Sunday",{"$f":"COUNTIF(S35:S65,7)","v":4},"2021-02-04",4,"Sunday",{"$f":"COUNTIF(W35:W65,7)","v":5},{"$f":"+X66+1","v":"2021-04-02"},{"$f":"WEEKDAY(X67,2)","v":5},"Sunday",{"$f":"COUNTIF(AA35:AA65,7)","v":5},{"$f":"+AB66+1","v":"2021-06-02"},{"$f":"WEEKDAY(AB67,2)","v":3},"Sunday",{"$f":"COUNTIF(AE35:AE65,7)","v":4},"Sunday",{"$f":"COUNTIF(AG35:AG65,7)","v":5},{"$f":"+AH66+1","v":"2021-09-02"},{"$f":"WEEKDAY(AH67,2)","v":4},"Sunday",{"$f":"COUNTIF(AK35:AK65,7)","v":4},{"$f":"+AL66+1","v":"2021-11-02"},{"$f":"WEEKDAY(AL67,2)","v":2},"Sunday",{"$f":"COUNTIF(AO35:AO65,7)","v":4}]
[null,null,null,null,null,null,null,null,null,null,null,null,null,null,null,null,null,{"$f":"DATE(YEAR('Time Set'!B5)+2,1,1)","v":"2021-01-01"},{"$f":"WEEKDAY(R68,2)","v":5},"2021-02-05",5,{"$f":"DATE(YEAR('Time Set'!$B$5)+2,3,1)","v":"2021-03-01"},{"$f":"WEEKDAY(V68,2)","v":1},{"$f":"+X67+1","v":"2021-04-03"},6,{"$f":"DATE(YEAR('Time Set'!$B$5)+2,5,1)","v":"2021-05-01"},{"$f":"WEEKDAY(Z68,2)","v":6},{"$f":"+AB67+1","v":"2021-06-03"},4,{"$f":"DATE(YEAR('Time Set'!$B$5)+2,7,1)","v":"2021-07-01"},{"$f":"WEEKDAY(AD68,2)","v":4},{"$f":"DATE(YEAR('Time Set'!$B$5)+2,8,1)","v":"2021-08-01"},{"$f":"WEEKDAY(AF68,2)","v":7},{"$f":"+AH67+1","v":"2021-09-03"},5,{"$f":"DATE(YEAR('Time Set'!$B$5)+2,10,1)","v":"2021-10-01"},{"$f":"WEEKDAY(AJ68,2)","v":5},{"$f":"+AL67+1","v":"2021-11-03"},3,{"$f":"DATE(YEAR('Time Set'!$B$5)+2,12,1)","v":"2021-12-01"},{"$f":"WEEKDAY(AN68,2)","v":3}]
[null,null,null,null,null,null,null,null,null,null,null,null,null,null,null,null,null,{"$f":"+R68+1","v":"2021-01-02"},{"$f":"WEEKDAY(R69,2)","v":6},"2021-02-06",6,{"$f":"+V68+1","v":"2021-03-02"},{"$f":"WEEKDAY(V69,2)","v":2},"2021-04-04",7,{"$f":"+Z68+1","v":"2021-05-02"},{"$f":"WEEKDAY(Z69,2)","v":7},"2021-06-04",5,{"$f":"+AD68+1","v":"2021-07-02"},{"$f":"WEEKDAY(AD69,2)","v":5},{"$f":"+AF68+1","v":"2021-08-02"},{"$f":"WEEKDAY(AF69,2)","v":1},"2021-09-04",6,{"$f":"+AJ68+1","v":"2021-10-02"},{"$f":"WEEKDAY(AJ69,2)","v":6},"2021-11-04",4,{"$f":"+AN68+1","v":"2021-12-02"},{"$f":"WEEKDAY(AN69,2)","v":4}]
[null,null,null,null,null,null,null,null,null,null,null,null,null,null,null,null,null,{"$f":"+R69+1","v":"2021-01-03"},7,"2021-02-07",7,{"$f":"+V69+1","v":"2021-03-03"},3,"2021-04-05",1,{"$f":"+Z69+1","v":"2021-05-03"},1,"2021-06-05",6,{"$f":"+AD69+1","v":"2021-07-03"},6,{"$f":"+AF69+1","v":"2021-08-03"},2,"2021-09-05",7,{"$f":"+AJ69+1","v":"2021-10-03"},7,"2021-11-05",5,{"$f":"+AN69+1","v":"2021-12-03"},5]
[null,null,null,null,null,null,null,null,null,null,null,null,null,null,null,null,null,"2021-01-04",1,"2021-02-08",1,"2021-03-04",4,"2021-04-06",2,"2021-05-04",2,"2021-06-06",7,"2021-07-04",7,"2021-08-04",3,"2021-09-06",1,"2021-10-04",1,"2021-11-06",6,"2021-12-04",6]
[null,null,null,null,null,null,null,null,null,null,null,null,null,null,null,null,null,"2021-01-05",2,"2021-02-09",2,"2021-03-05",5,"2021-04-07",3,"2021-05-05",3,"2021-06-07",1,"2021-07-05",1,"2021-08-05",4,"2021-09-07",2,"2021-10-05",2,"2021-11-07",7,"2021-12-05",7]
[null,null,null,null,null,null,null,null,null,null,null,null,null,null,null,null,null,"2021-01-06",3,"2021-02-10",3,"2021-03-06",6,"2021-04-08",4,"2021-05-06",4,"2021-06-08",2,"2021-07-06",2,"2021-08-06",5,"2021-09-08",3,"2021-10-06",3,"2021-11-08",1,"2021-12-06",1]
[null,null,null,null,null,null,null,null,null,null,null,null,null,null,null,null,null,"2021-01-07",4,"2021-02-11",4,"2021-03-07",7,"2021-04-09",5,"2021-05-07",5,"2021-06-09",3,"2021-07-07",3,"2021-08-07",6,"2021-09-09",4,"2021-10-07",4,"2021-11-09",2,"2021-12-07",2]
[null,null,null,null,null,null,null,null,null,null,null,null,null,null,null,null,null,"2021-01-08",5,"2021-02-12",5,"2021-03-08",1,"2021-04-10",6,"2021-05-08",6,"2021-06-10",4,"2021-07-08",4,"2021-08-08",7,"2021-09-10",5,"2021-10-08",5,"2021-11-10",3,"2021-12-08",3]
[null,null,null,null,null,null,null,null,null,null,null,null,null,null,null,null,null,"2021-01-09",6,"2021-02-13",6,"2021-03-09",2,"2021-04-11",7,"2021-05-09",7,"2021-06-11",5,"2021-07-09",5,"2021-08-09",1,"2021-09-11",6,"2021-10-09",6,"2021-11-11",4,"2021-12-09",4]
[null,null,null,null,null,null,null,null,null,null,null,null,null,null,null,null,null,"2021-01-10",7,"2021-02-14",7,"2021-03-10",3,"2021-04-12",1,"2021-05-10",1,"2021-06-12",6,"2021-07-10",6,"2021-08-10",2,"2021-09-12",7,"2021-10-10",7,"2021-11-12",5,"2021-12-10",5]
[null,null,null,null,null,null,null,null,null,null,null,null,null,null,null,null,null,"2021-01-11",1,"2021-02-15",1,"2021-03-11",4,"2021-04-13",2,"2021-05-11",2,"2021-06-13",7,"2021-07-11",7,"2021-08-11",3,"2021-09-13",1,"2021-10-11",1,"2021-11-13",6,"2021-12-11",6]
[null,null,null,null,null,null,null,null,null,null,null,null,null,null,null,null,null,"2021-01-12",2,"2021-02-16",2,"2021-03-12",5,"2021-04-14",3,"2021-05-12",3,"2021-06-14",1,"2021-07-12",1,"2021-08-12",4,"2021-09-14",2,"2021-10-12",2,"2021-11-14",7,"2021-12-12",7]
[null,null,null,null,null,null,null,null,null,null,null,null,null,null,null,null,null,"2021-01-13",3,"2021-02-17",3,"2021-03-13",6,"2021-04-15",4,"2021-05-13",4,"2021-06-15",2,"2021-07-13",2,"2021-08-13",5,"2021-09-15",3,"2021-10-13",3,"2021-11-15",1,"2021-12-13",1]
[null,null,null,null,null,null,null,null,null,null,null,null,null,null,null,null,null,"2021-01-14",4,"2021-02-18",4,"2021-03-14",7,"2021-04-16",5,"2021-05-14",5,"2021-06-16",3,"2021-07-14",3,"2021-08-14",6,"2021-09-16",4,"2021-10-14",4,"2021-11-16",2,"2021-12-14",2]
[null,null,null,null,null,null,null,null,null,null,null,null,null,null,null,null,null,"2021-01-15",5,"2021-02-19",5,"2021-03-15",1,"2021-04-17",6,"2021-05-15",6,"2021-06-17",4,"2021-07-15",4,"2021-08-15",7,"2021-09-17",5,"2021-10-15",5,"2021-11-17",3,"2021-12-15",3]
[null,null,null,null,null,null,null,null,null,null,null,null,null,null,null,null,null,"2021-01-16",6,"2021-02-20",6,"2021-03-16",2,"2021-04-18",7,"2021-05-16",7,"2021-06-18",5,"2021-07-16",5,"2021-08-16",1,"2021-09-18",6,"2021-10-16",6,"2021-11-18",4,"2021-12-16",4]
[null,null,null,null,null,null,null,null,null,null,null,null,null,null,null,null,null,"2021-01-17",7,"2021-02-21",7,"2021-03-17",3,"2021-04-19",1,"2021-05-17",1,"2021-06-19",6,"2021-07-17",6,"2021-08-17",2,"2021-09-19",7,"2021-10-17",7,"2021-11-19",5,"2021-12-17",5]
[null,null,null,null,null,null,null,null,null,null,null,null,null,null,null,null,null,"2021-01-18",1,"2021-02-22",1,"2021-03-18",4,"2021-04-20",2,"2021-05-18",2,"2021-06-20",7,"2021-07-18",7,"2021-08-18",3,"2021-09-20",1,"2021-10-18",1,"2021-11-20",6,"2021-12-18",6]
[null,null,null,null,null,null,null,null,null,null,null,null,null,null,null,null,null,"2021-01-19",2,"2021-02-23",2,"2021-03-19",5,"2021-04-21",3,"2021-05-19",3,"2021-06-21",1,"2021-07-19",1,"2021-08-19",4,"2021-09-21",2,"2021-10-19",2,"2021-11-21",7,"2021-12-19",7]
[null,null,null,null,null,null,null,null,null,null,null,null,null,null,null,null,null,"2021-01-20",3,"2021-02-24",3,"2021-03-20",6,"2021-04-22",4,"2021-05-20",4,"2021-06-22",2,"2021-07-20",2,"2021-08-20",5,"2021-09-22",3,"2021-10-20",3,"2021-11-22",1,"2021-12-20",1]
[null,null,null,null,null,null,null,null,null,null,null,null,null,null,null,null,null,"2021-01-21",4,"2021-02-25",4,"2021-03-21",7,"2021-04-23",5,"2021-05-21",5,"2021-06-23",3,"2021-07-21",3,"2021-08-21",6,"2021-09-23",4,"2021-10-21",4,"2021-11-23",2,"2021-12-21",2]
[null,null,null,null,null,null,null,null,null,null,null,null,null,null,null,null,null,"2021-01-22",5,{"$f":"+T88+1","v":"2021-02-26"},5,"2021-03-22",1,"2021-04-24",6,"2021-05-22",6,"2021-06-24",4,"2021-07-22",4,"2021-08-22",7,"2021-09-24",5,"2021-10-22",5,"2021-11-24",3,"2021-12-22",3]
[null,null,null,null,null,null,null,null,null,null,null,null,null,null,null,null,null,"2021-01-23",6,"2021-02-27",6,"2021-03-23",2,"2021-04-25",7,"2021-05-23",7,"2021-06-25",5,"2021-07-23",5,"2021-08-23",1,"2021-09-25",6,"2021-10-23",6,"2021-11-25",4,"2021-12-23",4]
[null,null,null,null,null,null,null,null,null,null,null,null,null,null,null,null,null,"2021-01-24",7,"2021-02-28",7,"2021-03-24",3,"2021-04-26",1,"2021-05-24",1,"2021-06-26",6,"2021-07-24",6,"2021-08-24",2,"2021-09-26",7,"2021-10-24",7,"2021-11-26",5,"2021-12-24",5]
[null,null,null,null,null,null,null,null,null,null,null,null,null,null,null,null,null,"2021-01-25",1,null,null,"2021-03-25",4,"2021-04-27",2,"2021-05-25",2,"2021-06-27",7,"2021-07-25",7,"2021-08-25",3,"2021-09-27",1,"2021-10-25",1,"2021-11-27",6,"2021-12-25",6]
[null,null,null,null,null,null,null,null,null,null,null,null,null,null,null,null,null,"2021-01-26",2,"Saturday",{"$f":"COUNTIF(U64:U91,6)","v":4},"2021-03-26",5,"2021-04-28",3,"2021-05-26",3,"2021-06-28",1,"2021-07-26",1,"2021-08-26",4,"2021-09-28",2,"2021-10-26",2,"2021-11-28",7,"2021-12-26",7]
[null,null,null,null,null,null,null,null,null,null,null,null,null,null,null,null,null,"2021-01-27",3,"Sunday",{"$f":"COUNTIF(U64:U91,7)","v":4},"2021-03-27",6,"2021-04-29",4,"2021-05-27",4,"2021-06-29",2,"2021-07-27",2,"2021-08-27",5,"2021-09-29",3,"2021-10-27",3,"2021-11-29",1,"2021-12-27",1]
[null,null,null,null,null,null,null,null,null,null,null,null,null,null,null,null,null,"2021-01-28",4,null,null,"2021-03-28",7,"2021-04-30",5,"2021-05-28",5,"2021-06-30",3,"2021-07-28",3,"2021-08-28",6,"2021-09-30",4,"2021-10-28",4,"2021-11-30",2,"2021-12-28",2]
[null,null,null,null,null,null,null,null,null,null,null,null,null,null,null,null,null,"2021-01-29",5,null,null,"2021-03-29",1,"Saturday",{"$f":"COUNTIF(Y66:Y95,6)","v":4},"2021-05-29",6,"Saturday",{"$f":"COUNTIF(AC66:AC95,6)","v":4},"2021-07-29",4,"2021-08-29",7,"Saturday",{"$f":"COUNTIF(AI66:AI95,6)","v":4},"2021-10-29",5,"Saturday",{"$f":"COUNTIF(AM66:AM95,6)","v":4},"2021-12-29",3]
[null,null,null,null,null,null,null,null,null,null,null,null,null,null,null,null,null,"2021-01-30",6,null,null,"2021-03-30",2,"Sunday",{"$f":"COUNTIF(Y66:Y95,7)","v":4},"2021-05-30",7,"Sunday",{"$f":"COUNTIF(AC66:AC95,7)","v":4},"2021-07-30",5,"2021-08-30",1,"Sunday",{"$f":"COUNTIF(AI66:AI95,7)","v":4},"2021-10-30",6,"Sunday",{"$f":"COUNTIF(AM66:AM95,7)","v":4},"2021-12-30",4]
[null,null,null,null,null,null,null,null,null,null,null,null,null,null,null,null,null,"2021-01-31",7,null,null,"2021-03-31",3,null,null,"2021-05-31",1,null,null,"2021-07-31",6,"2021-08-31",2,null,null,"2021-10-31",7,null,null,"2021-12-31",5]
[null,null,null,null,null,null,null,null,null,null,null,null,null,null,null,null,null,"Saturday",{"$f":"COUNTIF(S68:S98,6)","v":5},null,null,"Saturday",{"$f":"COUNTIF(W68:W98,6)","v":4},null,null,"Saturday",{"$f":"COUNTIF(AA68:AA98,6)","v":5},null,null,"Saturday",{"$f":"COUNTIF(AE68:AE98,6)","v":5},"Saturday",{"$f":"COUNTIF(AG68:AG98,6)","v":4},null,null,"Saturday",{"$f":"COUNTIF(AK68:AK98,6)","v":5},null,null,"Saturday",{"$f":"COUNTIF(AO68:AO98,6)","v":4}]
[null,null,null,null,null,null,null,null,null,null,null,null,null,null,null,null,null,"Sunday",{"$f":"COUNTIF(S68:S98,7)","v":5},null,null,"Sunday",{"$f":"COUNTIF(W68:W98,7)","v":4},null,null,"Sunday",{"$f":"COUNTIF(AA68:AA98,7)","v":5},null,null,"Sunday",{"$f":"COUNTIF(AE68:AE98,7)","v":4},"Sunday",{"$f":"COUNTIF(AG68:AG98,7)","v":5},null,null,"Sunday",{"$f":"COUNTIF(AK68:AK98,7)","v":5},null,null,"Sunday",{"$f":"COUNTIF(AO68:AO98,7)","v":4}]

{"sheet":"#Mean Rates#","index":4,"n_rows":111,"n_cols":5,"rows_kept":111,"cut":false,"hidden":false,"merged":[[0,0,0,4]]}
["ALL"]
["CONSTRUCTION ACTIVITY","Work Type","UNIT","MEAN VALUE","STANDARD DEVIATION"]
["Aggregate shoulder","H","TON",840,102]
["Backfill, Rock","B","TON",580,50]
["Barrier Delineator","B","EACH",20,2]
["Barrier Wall","B","TON",200,12]
["Beam Erection-Precast","B","LFT",400,38]
["Beam Erection-Steel","B","LFT",150,12]
["Bent Cofferdams","B","SYS",300,35]
["Box Culverts","H","LFT",50,1]
["Bridge Deck Overlay","B","SYS",360,140]
["Bridge Handrails","B","LFT",230,21]
["Bridge Rail","B","LFT",600,86]
["Chain Link Fence","B","LFT",1330,225]
["Common (Excavation)","H","CYS",990,394]
["Common Small Areas","H","CYS",520,106]
["Compacted Aggregate Base","H","TON",350,126]
["Compacted Aggregate for Shoulder","H","TON",490,159]
["Concrete A Substructure","B","CYS",170,26]
["Concrete B Substructure","B","CYS",110,19]
["Concrete C Superstructure","B","CYS",80,11]
["Concrete Driveways","B","SYS",250,48]
["Concrete Gutter","B","LFT",590,96]
["Concrete Median Barrier","B","LFT",910,221]
["Concrete Patching","B","SYS",120,24]
["Construct Fill (MSE)","H","CYS",300,62]
["Contraction Joint","B","LFT",290,115]
["Crack and Seating Pavement","B","SYS",6580,526]
["Cracks, Transverse, Rout Clean and Seal","B","LFT",9180,5636]
["Curb & Gutter (Removal)","B","LFT",860,188]
["Curb and Gutter","B","LFT",330,464]
["Curb Ramp, Concrete","B","LFT",24,6]
["Curb, Intergral, C, Concrete","B","LFT",200,79]
["Demobilization","C","DAYS",1,0]
["Ditch or Channel","H","CYS",650,92]
["Drilled Holes","B","EACH",270,38]
["Electric Cable","H","LFT",2600,219]
["Embankment","H","CYS",2380,189]
["Erecting Handrail","B","LFT",80,3]
["Erecting Structural Steel","B","LBS",27500,2678]
["Expansion Bolts","B","EACH",27,2]
["Extra Work","B","DAYS",1,0]
["Fence (Removal)","B","LFT",150,21]
["Flowable Mortar","B","CYS",150,23]
["Footings","B","CYS",30,4]
["Gabions","B","CYS",80,17]
["Geotextiles","H","SYS",500,151]
["Geotextiles for Underdrain","B","SYS",150,28]
["Granular Backfill","B","CYS",330,46]
["Ground or Crushed Stone","H","TON",860,87]
["Guardrail","B","LFT",520,169]
["Guardrail, Reset","B","LFT",380,147]
["HMA Approaches","H","TON",230,111]
["HMA Base","H","TON",820,519]
["HMA Intermediate, Mainline","H","TON",1400,282]
["HMA Patching","H","TON",70,8]
["HMA Shoulders","H","TON",750,92]
["HMA Surface","H","TON",1060,113]
["HMA Surface, Mainline","H","TON",980,349]
["HMA w/ Fibers","H","TON",1840,776]
["HMA Wedge and Level","H","TON",530,273]
["HMA Widening","H","TON",940,366]
["Material Lead Time","C","DAYS",1,0]
["Milling, Surface (Removal)","B","SYS",10900,1062]
["Mobilization","C","DAYS",1,0]
["MOT Change","C","DAYS",1,0]
["Other, Additional","C","DAYS",1,0]
["Parapet","B","LFT",100,16]
["Paved Side Ditch","H","LFT",380,47]
["Pavement (Removal)","B","SYS",920,185]
["Pavement Markings*","B","LFT",7200,876]
["PCCP","B","SYS",2870,286]
["Piling, Bent","B","LFT",500,46]
["Piling, Concrete","B","LFT",300,27]
["Piling, Steel","B","LFT",400,29]
["Piling, Timber","B","LFT",350,26]
["Pipes, Culvert","H","LFT",220,18]
["Pipes, Underdrains","B","LFT",1090,137]
["Place Deck w/o Support Cutouts","B","CYS",150,18]
["Pristmatic Reflectors","B","EACH",930,132]
["Reinforced Concrete Approaches","B","CYS",30,6]
["Reinforced Concrete pavement","B","SYS",160,14]
["Reinforcement Bars (Substructure)","B","LBS",5000,473]
["Reinforcing Steel ","B","LBS",9220,1670]
["Reinforcing Steel, Epoxy Coated","B","LBS",14780,2230]
["Retaining Walls (MSE)","H","SFT",250,{"$f":"4*9","v":36}]
["Riprap","H","TON",240,134]
["Rock (Excavation)","B","CYS",1130,139]
["Rubblizing Pavement","B","SYS",3200,227]
["Seal Coat","B","SYS",12030,6024]
["Sidewalk","B","SYS",1080,109]
["Sidewalk (Removal)","H","SYS",1690,80]
["Sign Small","B","EACH",20,3]
["Signal Conduit","H","LFT",220,34]
["Slope Wall","H","SYS",50,7]
["Snowplowable Raised Pvmt Markings","B","EACH",150,50]
["Sodding","H","SYS",1020,1136]
["Soil Stabilization","H","CYS",4870,396]
["Storm sewers","H","LFT",200,19]
["Stump (Removal)","B","EACH",12,8]
["Subballast","B","TONS",270,149]
["Subbase","H","TON",860,169]
["Subgrade Treatment IC (Excavation)","H","CYS",1160,270]
["Temporary Concete Barrier","B","LFT",2590,271]
["Top Soil (Removal)","H","CYS",380,29]
["Trench and Backfill","H","LFT",450,53]
["Unclassified (Excavation)","H","CYS",3460,305]
["Underseal","B","TON",45,6]
["Waterway (Excavation)","H","CYS",660,290]
["Wet (Removal)","H","CYS",80,23]
["Wingwalls","B","EACH",17,2]